Workbook
Name addlogo: INDEX(#REF!,MATCH(#REF!,#REF!,0))
Name addlogo: INDEX(#REF!,MATCH(#REF!,#REF!,0))
Name DKCO: #REF!
Name DKCO: #REF!
Name DKNO: #REF!
Name DKNO: #REF!
Name Donvi: #REF!
Name Donvi: #REF!
Name LM: #REF!
Name LM: #REF!
Name LN: #REF!
Name LN: #REF!
Name Taikhoan: #REF!
Name Taikhoan: #REF!
Name TaxTV: 10%
Name TaxXL: 5%
Name TK_BS: #REF!
Name TK_BS: #REF!
Name TK_PL: #REF!
Name TK_PL: #REF!
Name TK_TB: #REF!
Name TK_TB: #REF!
Name TKBS: #REF!
Name TKBS: #REF!
Name Ý_kiến: #REF!
Name Ý_kiến: #REF!
Name YKien: #REF!
Name YKien: #REF!
Name ZYX: #REF!
Name ZYX: #REF!
Name ZZZ: #REF!
Name ZZZ: #REF!

Sheet Tong quat
A1: Kỳ báo cáo: | C1: Tại ngày 31 tháng 12 năm 2022/As at 31 December 2022
C2: Năm 2022/Year 2022
A4: Thông tin chung:
C5: Tên Quỹ: | D5: Quỹ Đầu tư Chọn lọc Phú Hưng Việt Nam
C6: Fund name: | D6: Phu Hung Vietnam Select Investment Fund (PHVSF)
C7: Tên Công ty quản lý quỹ: | D7: Công ty Cổ phần Quản lý Quỹ Phú Hưng
C8: Fund Management Company: | D8: Phu Hung Fund Management Joint Stock Company
C9: Tên ngân hàng giám sát: | D9: Ngân hàng TMCP Đầu tư và Phát triển Việt Nam CN Nam Kỳ Khởi Nghĩa
C10: Supervising bank: | D10: Bank for Investment and Development of VietNam JSC - Nam Ky Khoi Nghia Branch
C11: Ngày lập báo cáo: | D11: Ngày 19 tháng 01 năm 2023
C12: Reporting Date: | D12: 44945
A14: Người ký báo cáo:
C16: Đại diện có thẩm quyền của Ngân hàng giám sát | F16: Đại diện có thẩm quyền của Công ty quản lý Quỹ
C17: Authorised Representative of Supervisory Bank | F17: Authorised Representative of Fund Management Company
C19: NH TMCP ĐT & PT Việt Nam CN Nam Kỳ Khởi Nghĩa | F19: Công ty Cổ phần Quản lý Quỹ Phú Hưng
C20: Hoàng Văn Sơn | F20: LU, HUI HUNG
C21: Phó giám đốc Chi nhánh | F21: Tổng Giám Đốc
B27: STT | C27: Nội dung | E27: Tên sheet
B28: A | C28: BÁO CÁO CHUNG VỀ HOẠT ĐỘNG ĐẦU TƯ CỦA QUỸ
B29: 1 | C29: Báo cáo thu nhập | E29: BCThuNhap_06203
B30: 2 | C30: Báo cáo tình hình tài chính | E30: BCTinhHinhTaiChinh_06105
B31: 3 | C31: Báo cáo lưu chuyển tiền tệ | E31: BCLCGT_06262
B32: 4 | C32: Báo cáo tài sản | E32: BCTaiSan_06027
B33: 5 | C33: Baó cáo Kết quả hoạt động | E33: BCKetQuaHoatDong_06028
B34: 6 | C34: Baáo cáo Danh mục đầu tư | E34: BCDanhmucdautu_06029
B35: 7 | C35: Giá trị tài sản ròng | E35: GiaTriTaiSanRong_06129
B36: 8 | C36: Báo cáo hoạt động vay | E36: Bchoatdongvay_06026
B37: 9 | C37: Báo cáo chỉ tiêu khác | E37: Khac_06030
B38: 10 | C38: Thống kê phí giao dịch | E38: ThongKePhiGiaoDich_06145
B39: B | C39: BÁO CÁO TÌNH HÌNH TỰ DOANH ĐẦU TƯ GIÁN TIẾP RA NƯỚC NGOÀI CỦA QUỸ | E39: Không có
B42: Thống kê các Thuyết minh BCTC
D44: Có trình bày Y/N/O | E44: Nguyên nhân không trình bày
B45: 1/ | C45: Tiền gửi Ngân hàng | D45: Y
B46: 2/ | C46: Các khoản đầu tư | D46: Y
B47: 3/ | C47: Các khoản dự phòng | D47: O | E47: Chỉ có VF1 trình bày, các Quỹ khác không có khoản mục này không phải trình bày
B48: 4/ | C48: Vay ngắn hạn | D48: N | E48: Không có số dư không trình bày
B49: 5/ | C49: Phải trả mua các khoản đầu tư | D49: N | E49: Không có số dư không trình bày
B50: 6/ | C50: Phải trả các Đại lý phân phối, Công ty Quản lý quỹ về phí phát hành và mua lại Chứng chỉ quỹ | D50: N | E50: Trên báo cáo chính đã chi tiết theo từng khoản mục
B51: 7/ | C51: Thuế và các khoản phải nộp Nhà nước | D51: N | E51: Không bắt buộc, Quỹ chỉ có khoản mục thuế từ hoạt động mua bán CCQ và Thù lao BDD
B52: 8/ | C52: Phải trả thu nhập cho Nhà đầu tư | D52: N | E52: Quỹ nào có chia cổ tức mới trình bày
...

Sheet BCThuNhap_06203
A1: Mẫu số B01g - QM. Báo cáo thu nhập Template B01g - QM. Statement of Comprehensive Income
A2: (Ban hành kèm theo Thông tư 198/2012/TT-BTC ngày 15 tháng 11 năm 2012 về chế độ kế toán áp dụng đối với quỹ mở) (Issued in association with Circular 198/2012/TT-BTC dated 15 Nov 2012 on the Accounting Policies for Open-Ended Fund)
A3: BÁO CÁO THU NHẬP STATEMENT OF COMPREHENSIVE INCOME
A5: Năm 2022/Year 2022
A7: Tên Quỹ: | B7: Quỹ Đầu tư Chọn lọc Phú Hưng Việt Nam
A8: Fund name: | B8: Phu Hung Vietnam Select Investment Fund (PHVSF)
A9: Tên Công ty quản lý quỹ: | B9: Công ty Cổ phần Quản lý Quỹ Phú Hưng
A10: Fund Management Company: | B10: Phu Hung Fund Management Joint Stock Company
A11: Tên ngân hàng giám sát: | B11: Ngân hàng TMCP Đầu tư và Phát triển Việt Nam Chi nhánh Nam Kỳ Khởi Nghĩa
A12: Supervising bank: | B12: Bank for Investment and Development of VietNam JSC - Nam Ky Khoi Nghia Branch
A13: Ngày lập báo cáo: | B13: Ngày 19 tháng 01 năm 2023
A14: Reporting Date: | B14: 44945
A16: Chỉ tiêu Indicator | B16: Mã số Code | C16: Thuyết minh Note | D16: Năm 2022 Year 2022 | E16: Năm 2021 Year 2021
A17: I. THU NHẬP, DOANH THU HOẠT ĐỘNG ĐẦU TƯ Investment income | B17: 01 | D17: 293401021
A18: 1.1. Cổ tức, trái tức được chia Dividend, bond interest received | B18: 02 | D18: 18860000
A19: Cổ tức được nhận Dividend received | B19: 02.1 | D19: 18860000
A20: Trái tức được nhận Coupon received | B20: 02.2 | D20: 0
A21: 1.2. Tiền lãi được nhận Interest income | B21: 03 | D21: 302166021
A22: Tiền lãi tiền gửi được nhận Bank Deposit Interest received | B22: 03.1 | D22: 302166021
A23: Lãi chứng chỉ tiền gửi Interest income from Certificate of Deposit | B23: 03.2 | D23: 0
A24: 1.3. Lãi (lỗ) bán các khoản đầu tư Realized gain (losses) from disposal investments | B24: 04 | D24: 0
A25: 1.4. Chênh lệch tăng, giảm đánh giá lại các khoản đầu tư chưa thực hiện Unrealized gain (losses) from investment revaluation | B25: 05 | D25: -27625000
A26: 1.5. Doanh thu khác Other income | B26: 06 | D26: 0
A27: 1.6. Chênh lệch lãi, lỗ tỷ giá hối đoái đã và chưa thực hiện Realized and unrealized gain (losses) from foreign exchange | B27: 07 | D27: 0
A28: 1.7. Doanh thu khác về đầu tư Other investment income | B28: 08 | D28: 0
... A31: 2.1. Chi phí giao dịch mua, bán các khoản đầu tư Expense for purchasing and selling investments | B31: 11 | D31: 4331498
A32: Phí môi giới Brokerage fee | B32: 11.1 | D32: 4331498
A33: Chi phí thanh toán bù trừ Clearing settlement fee | B33: 11.2 | D33: 0
A34: 2.2. Chi phí dự phòng nợ phải thu khó đòi và xử lý tổn thất phải thu khó đòi Provision expense | B34: 12 | D34: 0
A35: 2.3. Chi phí lãi vay Borrowing interest expense | B35: 13 | D35: 0
A36: 2.4. Chi phí dự phòng giảm giá tài sản nhận thế chấp và xử lý tổn thất các khoản đầu tư cho vay có tài sản nhận thế chấp Impairment expense for devaluation of assets received as pledge | B36: 14 | D36: 0
A37: 2.5. Chi phí đầu tư khác Other investments expense | B37: 15 | D37: 0
A38: III. CHI PHÍ HOẠT ĐỘNG CỦA QUỸ OPERATING EXPENSE | B38: 20 | D38: 273076950
A39: 3.1. Phí quản lý Quỹ mở Management fee | B39: 20.1 | D39: 168748206
A40: 3.2. Phí dịch vụ lưu ký tài sản Quỹ mở Custodian fee | B40: 20.2 | D40: 31070086
A41: Phí dịch vụ lưu ký - bảo quản tài sản Custodian service - Custody Fee | B41: 20.2.1 | D41: 30000000
A42: Phí dịch vụ lưu ký - giao dịch chứng khoán Custodian service - Transaction fee | B42: 20.2.2 | D42: 1070086
A43: Phí dịch vụ lưu ký - phí VSD Custodian service - VSD fee | B43: 20.2.3 | D43: 0
A44: 3.3. Phí dịch vụ giám sát Supervising fee | B44: 20.3 | D44: 11000000
A45: 3.4. Phí dịch vụ quản trị Quỹ mở Fund administrative fee | B45: 20.4 | D45: 33000000
...

Sheet BCTinhHinhTaiChinh_06105
A1: Mẫu số B02g - QM. Báo cáo tình hình tài chính Template B02g - QM. Statement of Financial Position
A2: (Ban hành kèm theo Thông tư 198/2012/TT-BTC ngày 15 tháng 11 năm 2012 về chế độ kế toán áp dụng đối với quỹ mở) (Issued in association with Circular 198/2012/TT-BTC dated 15 Nov 2012 on the Accounting Policies for Open-Ended Fund)
A3: BÁO CÁO TÌNH HÌNH TÀI CHÍNH STATEMENT OF FINANCIAL POSITION
A5: Tại 31 tháng 12 năm 2022/As at 31 December 2022
A7: Tên Quỹ: | B7: Quỹ Đầu tư Chọn lọc Phú Hưng Việt Nam
A8: Fund name: | B8: Phu Hung Vietnam Select Investment Fund (PHVSF)
A9: Tên Công ty quản lý quỹ: | B9: Công ty Cổ phần Quản lý Quỹ Phú Hưng
A10: Fund Management Company: | B10: Phu Hung Fund Management Joint Stock Company
A11: Tên ngân hàng giám sát: | B11: Ngân hàng TMCP Đầu tư và Phát triển Việt Nam Chi nhánh Nam Kỳ Khởi Nghĩa
A12: Supervising bank: | B12: Bank for Investment and Development of VietNam JSC - Nam Ky Khoi Nghia Branch
A13: Ngày lập báo cáo: | B13: Ngày 19 tháng 01 năm 2023
A14: Reporting Date: | B14: 44945
A16: Chỉ tiêu Indicator | B16: Mã số Code | C16: Thuyết minh Note | D16: Ngày 31 tháng 12 năm 2022 As at 31 December 2022 | E16: Ngày 31 tháng 12 năm 2021 As at 31 December 2021 | I16: Ngày 28 tháng 02 năm 2019 As at 28 February 2019
A17: I. TÀI SẢN ASSETS
A18: 1.Tiền gửi ngân hàng và tương đương tiền Cash at bank and cash equivalent | B18: 110 | D18: 62767343550 | I18: 29799258648 | J18: 729768413
A19: 1.1. Tiền gửi ngân hàng cho hoạt động của Quỹ mở Cash at bank for Fund's operation | B19: 111 | D19: 17767343550 | I19: 9361428215 | J19: 611101479
A20: Tiền gửi của nhà đầu tư cho hoạt động mua chứng chỉ quỹ Cash at bank for Fund's subscription | B20: 111.1 | D20: 0
A21: Tiền phải trả cho Nhà đầu tư về mua lại chứng chỉ quỹ Cash at bank for Fund's redemption | B21: 111.2 | D21: 0
A22: Tiền gửi ngân hàng cho hoạt động của Quỹ Cash at bank for Fund's operation | B22: 111.3 | D22: 17767343550
A23: 1.2. Tiền gửi có kỳ hạn dưới 3 tháng Term deposit less than 3 months | B23: 112 | D23: 45000000000 | I23: 20437830433 | J23: 118666934
A24: 2. Các khoản đầu tư thuần Investment | B24: 120 | D24: 37860040000 | I24: 46113652000 | J24: -267466000
A25: 2.1. Các khoản đầu tư Investments | B25: 121 | D25: 37860040000 | I25: 46113652000 | J25: -267466000
A26: Cổ phiếu niêm yết Listed shares | B26: 121.1 | D26: 2860040000 | I26: 43113652000 | J26: -267466000
A27: Cổ phiếu chưa niêm yết Unlisted shares | B27: 121.2 | D27: 0 | I27: 0
A28: Trái phiếu Bonds | B28: 121.3 | D28: 0 | I28: 0 | J28: 0
A29: Hợp đồng tiền gửi có kỳ hạn trên ba (03) tháng Deposit with term over three (03) months | B29: 121.4 | D29: 35000000000 | I29: 3000000000 | J29: 0
A30: Chứng chỉ tiền gửi ghi danh Registered Deposit Certificate | B30: 121.5 | D30: 0 | I30: 0 | J30: 0
A31: Quyền mua chứng khoán Investments - Rights | B31: 121.6 | D31: 0 | I31: 0 | J31: 0
A32: 2.2. Dự phòng giảm giá tài sản nhận thế chấp Impairment of devaluation of assets as pledge | B32: 122 | D32: 0 | I32: 0 | J32: 0
A33: 3. Các khoản phải thu Receivables | B33: 130 | D33: 276038082 | I33: 473787186 | J33: -61449754
A34: 3.1 Phải thu về bán các khoản đầu tư Receivables from investments sold but not yet settled | B34: 131 | D34: 0 | I34: 285571000 | J34: -58238511
A35: 3.2. Phải thu và dự thu cổ tức, tiền lãi các khoản đầu tư Dividend and interest receivables | B35: 133 | D35: 276038082 | I35: 188216186 | J35: -3211243
A36: Phải thu cổ tức, tiền lãi đến ngày nhận Dividend and interest receivables | B36: 134 | D36: 0 | I36: 0 | J36: 0
A37: Trong đó: Phải thu khó đòi về cổ tức, tiền lãi đến ngày nhận nhưng chưa nhận được In which: Overdue receivables from dividend, interest income | B37: 135 | D37: 0 | J37: 0
A38: Dự thu cổ tức, tiền lãi chưa đến ngày nhận Accrual dividend, interest income | B38: 136 | D38: 276038082 | I38: 188216186 | J38: -3211243
A39: Phải thu cổ tức Dividend receivable | B39: 136.1 | D39: 18860000 | I39: 0 | J39: 0
A40: Phải thu lãi tiền gửi có kỳ hạn Interest receivable from term deposit | B40: 136.2 | D40: 257178082 | I40: 188216186 | J40: -3211243
A41: Phải thu lãi chứng chỉ tiền gửi ghi danh Interest receivable from registered Deposit Certificate | B41: 136.3 | D41: 0 | I41: 0 | J41: 0
A42: Phải thu trái tức Coupond receivable | B42: 136.4 | D42: 0 | I42: 0 | J42: 0
A43: Phải thu lãi hợp đồng mua lại đảo ngược Interest receivable from reverse repo contract | B43: 136.5 | D43: 0 | I43: 0 | J43: 0
...

Sheet GTTSRong_06107
A1: Mẫu số B03 - QM: Mẫu báo cáo thay đổi giá trị tài sản ròng, giao dịch chứng chỉ quỹ Template B03 - QM: Report on change of Net Asset Value, trading of Fund Certificate
A2: (Ban hành kèm theo Thông tư 198/2012/TT-BTC ngày 15 tháng 11 năm 2012 về chế độ kế toán áp dụng đối với quỹ mở) (Issued in association with Circular 198/2012/TT-BTC dated 15 Nov 2012 on the Accounting Policies for Open-Ended Fund)
A3: BÁO CÁO THAY ĐỔI GIÁ TRỊ TÀI SẢN RÒNG, GIAO DỊCH CHỨNG CHỈ QUỸ REPORT ON CHANGE OF NET ASSET VALUE, TRADING OF FUND CERTIFICATE
A5: Năm 2022/Year 2022
A7: Tên Quỹ: | C7: Quỹ Đầu tư Chọn lọc Phú Hưng Việt Nam
A8: Fund name: | C8: Phu Hung Vietnam Select Investment Fund (PHVSF)
A9: Tên Công ty quản lý quỹ: | C9: Công ty Cổ phần Quản lý Quỹ Phú Hưng
A10: Fund Management Company: | C10: Phu Hung Fund Management Joint Stock Company
A11: Tên ngân hàng giám sát: | C11: NH TMCP Đầu tư và Phát triển Việt Nam Chi nhánh Nam Kỳ Khởi Nghĩa
A12: Supervising bank: | C12: Bank for Investment and Development of VietNam JSC - Nam Ky Khoi Nghia Branch
A13: Ngày lập báo cáo: | C13: Ngày 19 tháng 01 năm 2023
A14: Reporting Date: | C14: 44945
A16: STT No | C16: Nội dung Item | D16: Mã số Code | E16: Năm 2022 Year 2022 | F16: Năm 2021 Year 2021
A17: I | C17: Giá trị tài sản ròng của Quỹ (NAV) đầu kỳ Net Asset Value (NAV) at the beginning of period | D17: 4060 | E17: 0 | F17: 0
A18: II | C18: Thay đổi NAV so với kỳ trước (= II.1 + II.2), trong đó: Change of NAV during the period (= II.1 + II.2), of which: | D18: 4061 | E18: 15992573 | F18: 0
B19: II.1 | C19: Thay đổi NAV do biến động thị trường và hoạt động giao dịch của Quỹ trong kỳ Changes of NAV due to market fluctuation and the fund's investment during the period | D19: 4062 | E19: 15992573 | F19: 0
B20: II.2 | C20: Thay đổi NAV do phân chia Lợi nhuận/Tài sản của Quỹ cho Nhà đầu tư trong kỳ Change of NAV due to profit distribution to investors during the period | D20: 4063 | E20: 0 | F20: 0
A21: III | C21: Thay đổi NAV do hoán đổi lại, phát hành thêm Chứng chỉ Quỹ(= III.1 + III.2) Change of NAV due to redemption, subscription of Fund Certificate (= III.1 + III.2) | D21: 4064 | E21: 100149000000 | F21: 0
B22: III.1 | C22: Khoản thu từ việc phát hành bổ sung Chứng chỉ Quỹ Increase from Subscription of Fund Certificate | D22: 4065 | E22: 100149000000 | F22: 0
B23: III.2 | C23: Khoản thanh toán từ việc hoán đổi lại Chứng chỉ Quỹ Decrease from Redemption of Fund Certificate | D23: 4066 | E23: 0 | F23: 0
A24: IV | C24: Giá trị tài sản ròng của Quỹ cuối kỳ (= I + II + III) NAV at the end of period (= I + II + III) | D24: 4067 | E24: 100164992573 | F24: 0
A26: Công ty Cổ phần Quản lý Quỹ Phú Hưng
A27: Người lập | C27: Người duyệt
A33: Nguyễn Thị Hương Huệ | C33: Nguyễn Thị Hương Huệ | E33: LU, HUI HUNG
A34: Kế toán | C34: Phụ trách kế toán Quỹ | E34: Tổng Giám Đốc

Sheet BCLCGT_06262
A1: Mẫu số B02g - QM. Báo cáo tình hình tài chính Template B02g - QM. Statement of Financial Position
A2: (Ban hành kèm theo Thông tư 198/2012/TT-BTC ngày 15 tháng 11 năm 2012 về chế độ kế toán áp dụng đối với quỹ mở) (Issued in association with Circular 198/2012/TT-BTC dated 15 Nov 2012 on the Accounting Policies for Open-Ended Fund)
A3: BÁO CÁO LƯU CHUYỂN TIỀN TỆ CASH FLOW STATEMENT
A4: Năm 2022/Year 2022
A7: Tên Quỹ: | B7: Quỹ Đầu tư Chọn lọc Phú Hưng Việt Nam
A8: Fund name: | B8: Phu Hung Vietnam Select Investment Fund (PHVSF)
A9: Tên Công ty quản lý quỹ: | B9: Công ty Cổ phần Quản lý Quỹ Phú Hưng
A10: Fund Management Company: | B10: Phu Hung Fund Management Joint Stock Company
A11: Tên ngân hàng giám sát: | B11: NH TMCP Đầu tư và Phát triển Việt Nam Chi nhánh Nam Kỳ Khởi Nghĩa
A12: Supervising bank: | B12: Bank for Investment and Development of VietNam JSC - Nam Ky Khoi Nghia Branch
A13: Ngày lập báo cáo: | B13: Ngày 19 tháng 01 năm 2023
A14: Reporting Date: | B14: 44945
A17: Chỉ tiêu Indicator | B17: Mã số Code | C17: Thuyết minh Note | D17: Năm 2022 Year 2022 | E17: Năm 2021 Year 2021
A18: I. Lưu chuyển tiền từ hoạt động đầu tư Cash flow from investing activities | B18: I
A19: 1. Lợi nhuận trước Thuế thu nhập doanh nghiệp Profit before income tax | B19: 01 | D19: 15992573
A20: 2. Điều chỉnh cho các khoản tăng giá trị tài sản ròng từ các hoạt động đầu tư Adjustment for NAV increase from investing activities | B20: 02 | D20: 28475178
A21: (- Lãi) hoặc (+ lỗ) chênh lệch tỷ giá hối đoái/ đánh giá lại các khoản đầu tư chưa thực hiện Unreliased (Gain) or Loss from FX valuation/Investment revaluation | B21: 03 | D21: 27625000
A22: (+) Chi phí trích trước Increase of Accrued Expenses | B22: 04 | D22: 850178
A23: 3. Lợi nhuận từ hoạt động đầu tư trước thay đổi vốn lưu động Profit from investing activities before changes in working capital | B23: 05 | D23: 44467751
A24: (-) Tăng, (+) giảm đầu tư (Increase), Decrease Investments | B24: 20 | D24: -37887665000
A25: (-) Tăng, (+) giảm phải thu bán chứng khoán đầu tư (Increase), Decrease in Receivables from investments sold but not yet settled | B25: 06 | D25: 0
A26: (-) Tăng, (+) giảm dự thu phải thu tiền lãi các khoản đầu tư (Increase), Decrease in Dividend and interest receivables | B26: 07 | D26: -276038082
A27: (-) Tăng, (+) giảm các khoản phải thu khác (Increase), Decrease in other receivables | B27: 08 | D27: 0
A28: (+) Tăng, (-) giảm vay ngắn hạn Increase, (Decrease) in Short-term Loans | B28: 09 | D28: 0
A29: (+) Tăng, (-) giảm phải trả cho người bán (Decrease), Increase in payables for securities purchased but not yet settled | B29: 10 | D29: 566785000
A30: (+) Tăng, (-) giảm phải trả các Đại lý phân phối Chứng chỉ quỹ, Công ty Quản lý Quỹ (Decrease)/increase in subscription and redemption fee payable to distributors and Fund Management Company | B30: 11 | D30: 0
... A38: Lưu chuyển tiền thuần từ hoạt động đầu tư (1+2+3) Net Cash flow from Investing activities | B38: 19 | D38: -37381656450
A39: II. Lưu chuyển tiền từ hoạt động tài chính Cash flow from financing activities | B39: II
A40: 1. Tiền thu từ phát hành Chứng chỉ quỹ mở Receipts from subscriptions | B40: 31 | D40: 100149000000
A41: 2. Tiền chi mua lại Chứng chỉ quỹ mở Payments for redemptions | B41: 32 | D41: 0
A42: 3. Tiền vay gốc Principal of borrowings | B42: 33 | D42: 0
A43: 4. Tiền chi trả nợ gốc vay Payment of Principal borrowings | B43: 34 | D43: 0
A44: 5. Tiền chi trả cổ tức, tiền lãi cho nhà đầu tư Dividend, profit distribution paid to investors | B44: 35 | D44: 0
A45: Lưu chuyển tiền thuần từ hoạt động tài chính (1+2+3-4-5) Net cash outflows from financing activities | B45: 30 | D45: 100149000000
A46: III. Tăng/giảm tiền thuần trong kỳ Net Increase/Decrease in cash and cash equivalent for the period | B46: 40 | D46: 62767343550
A47: IV. Tiền và các khoản tương đương tiền đầu kỳ Cash and cash equivalents at the beginning of period | B47: 50 | D47: 0
A48: Tiền gửi ngân hàng đầu kỳ: Cash at bank of the beginning of period: | B48: 51 | D48: 0
A49: -Tiền gửi ngân hàng và tương đương tiền cho hoạt động của Quỹ Cash at bank and cash equivalent for Fund's operation | B49: 52 | D49: 0
A50: Tiền gửi không kỳ hạn Demand deposit | B50: 52.1 | D50: 0
A51: Tiền gửi có kỳ hạn dưới ba (03) tháng Deposits with term under three (03) months | B51: 52.2 | D51: 0
...

Sheet BCTaiSan_06027
A1: Phụ lục XXVI. Mẫu báo cáo về hoạt động của Quỹ Appendix XXVI. Report on Fund's Operation | H1: ok
A2: (Ban hành kèm theo Thông tư số 98/2020/TT-BTC ngày 16 tháng 11 năm 2020 của Bộ trưởng Bộ Tài Chính về hướng dẫn hoạt động và quản lý quỹ đầu tư chứng khoán (Issued in association with Circular 98/2020/TT-BTC dated 16 November 2020 of the Minister of Finance on guiding the operation and management of the securities investment funds
A3: BÁO CÁO HOẠT ĐỘNG ĐẦU TƯ CỦA QUỸ MỞ REPORT ON FUND'S INVESTMENT ACTIVITIES
A5: Tại 31 tháng 12 năm 2022/As at 31 December 2022
A7: Tên Quỹ: | C7: Quỹ Đầu tư Chọn lọc Phú Hưng Việt Nam
A8: Fund name: | C8: Phu Hung Vietnam Select Investment Fund (PHVSF)
A9: Tên Công ty quản lý quỹ: | C9: Công ty Cổ phần Quản lý Quỹ Phú Hưng
A10: Fund Management Company: | C10: Phu Hung Fund Management Joint Stock Company
A11: Tên ngân hàng giám sát: | C11: Ngân hàng TMCP Đầu tư và Phát triển Việt Nam CN Nam Kỳ Khởi Nghĩa
A12: Supervising bank: | C12: Bank for Investment and Development of VietNam JSC - Nam Ky Khoi Nghia Branch
A13: Ngày lập báo cáo: | C13: Ngày 19 tháng 01 năm 2023
A14: Reporting Date: | C14: 44945
A15: A. | B15: BÁO CÁO CHUNG VỀ HOẠT ĐỘNG ĐẦU TƯ CỦA QUỸ/GENERAL INFORMATION ON FUND'S INVESTMENT ACTIVITIES
A16: I | B16: BÁO CÁO TÀI SẢN CỦA QUỸ / ASSET REPORT
A17: STT No | B17: Nội dung Indicator | C17: Mã chỉ tiêu Code | D17: Ngày 31 tháng 12 năm 2022 As at 31 December 2022 | E17: Ngày 31 tháng 12 năm 2021 As at 31 December 2021 | F17: %/cùng kỳ năm trước %/against last year | K17: Ngày 30 tháng 04 năm 2018 As at 30 Apr 2018
A18: I | B18: TÀI SẢN ASSETS | C18: 2200 | K18: 0
A19: I.1 | B19: Tiền và các khoản tương đương tiền Cash and Cash Equivalents | C19: 2201 | D19: 62767343550 | K19: 18924296298
B20: Tiền Cash | C20: 2202 | D20: 0 | K20: 0
B21: Tiền gửi ngân hàng Cash at Bank | C21: 2203 | D21: 17767343550 | K21: 10834088082
B22: Tiền gửi của nhà đầu tư cho hoạt động mua chứng chỉ quỹ Cash at bank for Fund's subscription | C22: 2203.1 | D22: 0
B23: Tiền phải trả cho Nhà đầu tư về mua lại chứng chỉ quỹ Cash at bank for Fund's redemption | C23: 2203.2 | D23: 0
B24: Tiền gửi ngân hàng cho hoạt động của Quỹ Cash at bank for Fund's operation | C24: 2203.3 | D24: 17767343550
B25: Các khoản tương đương tiền Cash Equivalents | C25: 2204 | D25: 45000000000 | K25: 8090208216
A26: I.2 | B26: Các khoản đầu tư (kê chi tiết) Investments | C26: 2205 | D26: 37860040000 | K26: 54380270000
B27: Cổ phiếu niêm yết Listed shares | C27: 2205.01 | D27: 2860040000 | K27: 54104270000
B28: Cổ phiếu chưa niêm yết Unlisted shares | C28: 2205.02 | D28: 0 | K28: 0
B29: Trái phiếu Bonds | C29: 2205.03 | D29: 0 | K29: 0
B30: Hợp đồng tiền gửi có kỳ hạn quá ba (03) tháng Deposit with term over three (03) months | C30: 2205.04 | D30: 35000000000 | K30: 0
B31: Chứng chỉ tiền gửi ghi danh Registered Deposit Certificate | C31: 2205.05 | D31: 0 | K31: 0
B32: Quyền mua chứng khoán Investments - Rights | C32: 2205.06 | D32: 0 | K32: 276000000
A33: I.3 | B33: Cổ tức, trái tức được nhận Dividend, Coupon Receivables | C33: 2206 | D33: 18860000 | K33: 182000000
B34: Cổ tức được nhận Dividend receivables | C34: 2206.1 | D34: 18860000
B35: Trái tức được nhận Coupon Receivables | C35: 2206.2 | D35: 0
A36: I.4 | B36: Lãi được nhận Interest Receivables | C36: 2207 | D36: 257178082 | K36: 31954902
B37: Phải thu lãi tiền gửi có kỳ hạn Interest receivable from term deposit | C37: 2207.1 | D37: 257178082 | K37: 31954902
B38: Phải thu lãi chứng chỉ tiền gửi ghi danh Interest receivable from registered Deposit Certificate | C38: 2207.2 | D38: 0 | K38: 0
A39: I.5 | B39: Tiền bán chứng khoán chờ thu Securities Trading Receivables | C39: 2208 | D39: 0 | K39: 838678093
A40: I.6 | B40: Các khoản phải thu khác Other Receivables | C40: 2210 | D40: 0 | K40: 0
A41: I.7 | B41: Các tài sản khác Other Assets | C41: 2211 | D41: 0 | H41: checking | K41: 0
A42: I.8 | B42: TỔNG TÀI SẢN TOTAL ASSETS | C42: 2212 | D42: 100903421632 | H42: 77161857907 | I42: 76787550493 | K42: 74357199293
...

Sheet BCKetQuaHoatDong_06028
A1: Phụ lục XXVI. Mẫu báo cáo về hoạt động của Quỹ Appendix XXVI. Report on Fund's Operation
A2: (Ban hành kèm theo Thông tư số 98/2020/TT-BTC ngày 16 tháng 11 năm 2020 của Bộ trưởng Bộ Tài Chính về hướng dẫn hoạt động và quản lý quỹ đầu tư chứng khoán (Issued in association with Circular 98/2020/TT-BTC dated 16 November 2020 of the Minister of Finance on guiding the operation and management of the securities investment funds
A3: BÁO CÁO HOẠT ĐỘNG ĐẦU TƯ CỦA QuỸ MỞ REPORT ON FUND'S INVESTMENT ACTIVITIES
A5: Năm 2022/Year 2022
A7: Tên Quỹ: | C7: Quỹ Đầu tư Chọn lọc Phú Hưng Việt Nam
A8: Fund name: | C8: Phu Hung Vietnam Select Investment Fund (PHVSF)
A9: Tên Công ty quản lý quỹ: | C9: Công ty Cổ phần Quản lý Quỹ Phú Hưng
A10: Fund Management Company: | C10: Phu Hung Fund Management Joint Stock Company
A11: Tên ngân hàng giám sát: | C11: Ngân hàng TMCP Đầu tư và Phát triển Việt Nam Chi nhánh Nam Kỳ Khởi Nghĩa
A12: Supervising bank: | C12: Bank for Investment and Development of VietNam JSC - Nam Ky Khoi Nghia Branch
A13: Ngày lập báo cáo: | C13: Ngày 19 tháng 01 năm 2023
A14: Reporting Date: | C14: 44945
A15: A. | B15: BÁO CÁO CHUNG VỀ HOẠT ĐỘNG ĐẦU TƯ CỦA QUỸ/GENERAL INFORMATION ON FUND'S INVESTMENT ACTIVITIES
A16: II | B16: BÁO CÁO KẾT QUẢ HOẠT ĐỘNG / PROFIT AND LOSS REPORT
A17: STT No | B17: Chỉ tiêu Indicator | C17: Mã chỉ tiêu Code | D17: Năm 2022 Year 2022 | E17: Năm 2021 Year 2021 | F17: Lũy kế từ đầu năm Accumulated from beginning of year
A18: I | B18: Thu nhập từ hoạt động đầu tư Income from Investment Activities | C18: 2220 | D18: 321026021 | F18: 321026021 | P18: 2220
A19: 1 | B19: Cổ tức, trái tức được nhận Dividend, Coupon received | C19: 2221 | D19: 18860000 | F19: 18860000 | P19: 2221
B20: Cổ tức được nhận Dividend received | C20: 2221.1 | D20: 18860000 | F20: 18860000
B21: Trái tức được nhận Coupon received | C21: 2221.2 | D21: 0 | F21: 0
A22: 2 | B22: Lãi được nhận Income from Interest | C22: 2222 | D22: 302166021 | F22: 302166021 | P22: 2222
A23: 3 | B23: Các khoản thu nhập khác Other income | C23: 2223 | D23: 0 | F23: 0 | P23: 2223
A24: II | B24: Chi phí Expense | C24: 2224 | D24: 277408448 | F24: 277408448 | P24: 2224
A25: 1 | B25: Chi phí quản lý trả cho Công ty quản lý quỹ Management Fee paid to Fund Management Company | C25: 2225 | D25: 168748206 | F25: 168748206 | P25: 2225
A26: 2 | B26: Chi phí lưu ký, giám sát trả cho Ngân hàng Giám sát/VSD Custody fee, Supervising fee paid to Supervising Bank/VSD | C26: 2226 | D26: 42070086 | F26: 42070086 | P26: 2226
B27: Phí dịch vụ lưu ký - bảo quản tài sản Custodian service - Custody Fee | C27: 2226.1 | D27: 30000000 | F27: 30000000 | P27: 2226.1
B28: Phí dịch vụ lưu ký - giao dịch chứng khoán Custodian service - Transaction fee | C28: 2226.2 | D28: 1070086 | F28: 1070086 | P28: 2226.2
B29: Phí dịch vụ lưu ký tại VSD Custodian fee at VSD | C29: 2226.3 | D29: 0 | F29: 0 | P29: 2226.3
B30: Phí giám sát Supervisory fee | C30: 2226.4 | D30: 11000000 | F30: 11000000 | P30: 2226.4
A31: 3 | B31: Chi phí dịch vụ quản trị quỹ, chi phí dịch vụ đại lý chuyển nhượng và các chi phí khác mà công ty quản lý quỹ trả cho tổ chức cung cấp dịch vụ có liên quan Fund Administration Fee, Transfer Agency Fee, and other fee paid to relevant Fund's service providers | C31: 2227 | D31: 39032258 | F31: 39032258 | P31: 2227
B32: Chi phí dịch vụ quản trị Quỹ Fund Administration Fee | C32: 2227.1 | D32: 33000000 | F32: 33000000 | P32: 2227.1
B33: Chi phí dịch vụ Đại lý Chuyển nhượng Transfer Agency Fee | C33: 2227.2 | D33: 6032258 | F33: 6032258 | P33: 2227.2
A34: 4 | B34: Chi phí kiểm toán trả cho tổ chức kiểm toán Audit fee | C34: 2228 | D34: 0 | F34: 0 | P34: 2228
A35: 5 | B35: Chi phí dịch vụ tư vấn pháp lý, dịch vụ báo giá và các dịch vụ hợp lý khác, thù lao trả cho ban đại diện quỹ Legal consultancy expenses, price quotation fee, other valid expenses, remuneration payable to fund representative board | C35: 2229 | D35: 0 | F35: 0 | P35: 2229
B36: Thù lao ban đại diện Quỹ Remuneration of Fund's Board of Representatives | C36: 2229.1 | D36: 0 | F36: 0 | P36: 2229.1
B37: Chi phí cung cấp báo giá chứng khoán Price feed fee Expenses | C37: 2229.2 | D37: 0 | F37: 0 | P37: 2229.2
A38: 6 | B38: Chi phí dự thảo, in ấn, gửi bản cáo bạch, bản cáo bạch tóm tắt, báo cáo tài chính, xác nhận giao dịch, sao kê tài khoản và các tài liệu khác cho nhà đầu tư; chi phí công bố thông tin của quỹ; chi phí tổ chức họp đại hội nhà đầu tư, ban đại diện quỹ Fee for drafting, printing, distribution of prospectus, summarised propectus, financial statements, transaction confirmations, account statements and other documents to investors; information disclosure fee; fee for organising annual general meeting, board of representatives meeting | C38: 2230 | D38: 0 | F38: 0 | P38: 2230
B39: Chi phí họp Đại hội Quỹ Meeting expense | C39: 2230.1 | D39: 0 | F39: 0 | P39: 2230.1
B40: Phí báo cáo thường niên Annual report expense | C40: 2230.2 | D40: 0 | F40: 0 | P40: 2230.2
B41: Chi phí họp, công tác của ban đại diện Fund's Board of Representatives meeting, travelling expense | C41: 2230.3 | D41: 0 | F41: 0 | P41: 2230.3
B42: Chi phí công bố thông tin của Quỹ Expenses for information disclosure of the Fund | C42: 2230.4 | D42: 0 | F42: 0 | P42: 2230.4
...

Sheet BCDanhMucDauTu_06029
A1: Phụ lục XXVI. Mẫu báo cáo về hoạt động của Quỹ Appendix XXVI. Report on Fund's Operation
A2: (Ban hành kèm theo Thông tư số 98/2020/TT-BTC ngày 16 tháng 11 năm 2020 của Bộ trưởng Bộ Tài Chính về hướng dẫn hoạt động và quản lý quỹ đầu tư chứng khoán (Issued in association with Circular 98/2020/TT-BTC dated 16 November 2020 of the Minister of Finance on guiding the operation and management of the securities investment funds)
A3: BÁO CÁO HOẠT ĐỘNG ĐẦU TƯ CỦA QUỸ MỞ REPORT ON FUND'S INVESTMENT ACTIVITIES
A5: Tại 31 tháng 12 năm 2022/As at 31 December 2022
A7: Tên Quỹ: | C7: Quỹ Đầu tư Chọn lọc Phú Hưng Việt Nam
A8: Fund name: | C8: Phu Hung Vietnam Select Investment Fund (PHVSF)
A9: Tên Công ty quản lý quỹ: | C9: Công ty Cổ phần Quản lý Quỹ Phú Hưng
A10: Fund Management Company: | C10: Phu Hung Fund Management Joint Stock Company
A11: Tên ngân hàng giám sát: | C11: Ngân hàng TMCP Đầu tư và Phát triển Việt Nam Chi nhánh Nam Kỳ Khởi Nghĩa
A12: Supervising bank: | C12: Bank for Investment and Development of VietNam JSC - Nam Ky Khoi Nghia Branch
A13: Ngày lập báo cáo: | C13: Ngày 19 tháng 01 năm 2023
A14: Reporting Date: | C14: 44945
A15: A. | B15: BÁO CÁO CHUNG VỀ HOẠT ĐỘNG ĐẦU TƯ CỦA QUỸ/GENERAL INFORMATION ON FUND'S INVESTMENT ACTIVITIES
A16: III | B16: BÁO CÁO VỀ TÌNH HÌNH DANH MỤC ĐẦU TƯ CỦA QUỸ / INVESTMENT PORTFOLIO REPORT
A17: STT/No. | B17: Loại Category | C17: Mã chỉ tiêu Code | D17: Số Lượng Quantity | E17: Giá thị trường hoặc giá trị hợp lý tại ngày báo cáo Market price | F17: Tổng giá trị (Đồng) Value (VND) | G17: Tỷ lệ % Tổng giá trị tài sản của Quỹ % of total asset
A18: I | B18: CỔ PHIẾU NIÊM YẾT LISTED EQUITY | C18: 2246
B19: NT2 | C19: 2246.1 | D19: 8800 | E19: 28850 | F19: 253880000 | G19: 0.0025160693
B20: SAB | C20: 2246.2 | D20: 3800 | E20: 166900 | F20: 634220000 | G20: 0.0062854162
B21: TCM | C21: 2246.3 | D21: 3000 | E21: 53000 | F21: 159000000 | G21: 0.0015757642
B22: TLG | C22: 2246.4 | D22: 6600 | E22: 51000 | F22: 336600000 | G22: 0.0033358631
B23: VNM | C23: 2246.5 | D23: 19400 | E23: 76100 | F23: 1476340000 | G23: 0.014631218
B24: TỔNG TOTAL | C24: 2247 | D24: 41600 | F24: 2860040000 | G24: 0.028344331
A25: II | B25: CỔ PHIẾU CHƯA NIÊM YẾT UNLISTED EQUITY | C25: 2248
B26: TỔNG TOTAL | C26: 2249 | D26: 0 | F26: 0 | G26: 0
B27: TỔNG CÁC LOẠI CỔ PHIẾU TOTAL | C27: 2250 | D27: 41600 | F27: 2860040000 | G27: 0.028344331
A28: III | B28: TRÁI PHIẾU BONDS | C28: 2251
A29: 1 | B29: Trái phiếu niêm yết Listed bond | C29: 2251.1
A30: 2 | B30: Trái phiếu chưa niêm yết Unlisted bond | C30: 2251.2
B31: TỔNG TOTAL | C31: 2252 | D31: 0 | F31: 0 | G31: 0
A32: IV | B32: CÁC LOẠI CHỨNG KHOÁN KHÁC OTHER SECURITIES | C32: 2253
A33: 1 | B33: Quyền mua Rights | C33: 2253.1
C34: 2253.1.1 | G34: 0
B35: TỔNG TOTAL | C35: 2254 | D35: 0 | F35: 0 | G35: 0
B36: TỔNG CÁC LOẠI CHỨNG KHOÁN SECURITIES INVESTMENT TOTAL | C36: 2255 | D36: 41600 | F36: 2860040000 | G36: 0.028344331
A37: V | B37: CÁC TÀI SẢN KHÁC OTHER ASSETS | C37: 2256
A38: 1 | B38: Cổ tức được nhận Dividend receivables | C38: 2256.1 | F38: 18860000 | G38: 0.0001869114
A39: 2 | B39: Lãi trái phiếu được nhận Coupon receivables | C39: 2256.2 | F39: 0 | G39: 0
A40: 3 | B40: Lãi tiền gửi được nhận Interest receivables from deposits | C40: 2256.3 | F40: 257178082 | G40: 0.0025487548
A41: 4 | B41: Phải thu lãi chứng chỉ tiền gửi ghi danh Interest receivable from registered Deposit Certificate | C41: 2256.4 | F41: 0 | G41: 0 | I41: Tach lai CD va TD
A42: 5 | B42: Tiền bán chứng khoán chờ thu Outstanding Settlement of sales transactions | C42: 2256.5 | F42: 0 | G42: 0
...

Sheet BCHoatDongVay_06026
A1: Phụ lục XXVI. Mẫu báo cáo về hoạt động của Quỹ Appendix XXVI. Report on Fund's Operation
A2: (Ban hành kèm theo Thông tư số 98/2020/TT-BTC ngày 16 tháng 11 năm 2020 của Bộ trưởng Bộ Tài Chính về hướng dẫn hoạt động và quản lý quỹ đầu tư chứng khoán (Issued in association with Circular 98/2020/TT-BTC dated 16 November 2020 of the Minister of Finance on guiding the operation and management of the securities investment funds)
A3: BÁO CÁO HOẠT ĐỘNG ĐẦU TƯ CỦA QUỸ MỞ REPORT ON FUND'S INVESTMENT ACTIVITIES
A4: Năm 2022/Year 2022
A6: Tên Quỹ: | G6: Quỹ Đầu tư Chọn lọc Phú Hưng Việt Nam
A7: Fund name: | G7: Phu Hung Vietnam Select Investment Fund (PHVSF)
A8: Tên Công ty quản lý quỹ: | G8: Công ty Cổ phần Quản lý Quỹ Phú Hưng
A9: Fund Management Company: | G9: Phu Hung Fund Management Joint Stock Company
A10: Tên ngân hàng giám sát: | G10: Ngân hàng TMCP Đầu tư và Phát triển Việt Nam Chi nhánh Nam Kỳ Khởi Nghĩa
A11: Supervising bank: | G11: Bank for Investment and Development of VietNam JSC - Nam Ky Khoi Nghia Branch
A12: Ngày lập báo cáo: | G12: Ngày 19 tháng 01 năm 2023
A13: Reporting Date: | G13: 44945
A14: A. | B14: BÁO CÁO CHUNG VỀ HOẠT ĐỘNG ĐẦU TƯ CỦA QUỸ/GENERAL INFORMATION ON FUND'S INVESTMENT ACTIVITIES
A15: IV | B15: BÁO CÁO HOẠT ĐỘNG VAY, GIAO DỊCH MUA BÁN LẠI / REPORT ON BORROWING OPERATION, REPO/REVERSE REPO TRANSACTIONS
A16: STT No. | B16: Nội dung hoạt động (nêu chi tiết theo mục tiêu và đối tác) Description | C16: Mã chỉ tiêu Code | D16: Đối tác Counterparty | E16: Mục tiêu/Tài sản đảm bảo Collateral | F16: Kỳ hạn Term | G16: Giá trị khoản vay hoặc khoản cho vay Amount | H16: Thời điểm giao dịch As at transaction date | J16: Thời điểm báo cáo As at reporting date
H17: Ngày tháng năm Date | I17: Tỷ lệ giá trị hợp đồng/giá trị tài sản ròng của quỹ Balance/NAV | J17: Ngày tháng năm Date | K17: Tỷ lệ giá trị hợp đồng/giá trị tài sản ròng của quỹ Balance/NAV
A18: 1 | B18: Các khoản vay tiền (nêu chi tiết từng hợp đồng) Borrowings (detail by each contract) | C18: 2287
A19: I | B19: Tổng giá trị các khoản vay tiền/giá trị tài sản ròng Borrowings/NAV | C19: 2288
A20: 2 | B20: Hợp đồng Repo (nêu chi tiết từng hợp đồng) Repo contract (detail by each contract) | C20: 2289
A21: II | B21: Tổng giá trị các hợp đồng Repo/giá trị tài sản ròng Total value of Repo contracts/NAV | C21: 2290
A22: A | B22: Tổng giá trị các khoản vay/giá trị tài sản ròng (=I+II) Total Borrowings, Repo/NAV (=I+II) | C22: 2291
A23: 3 | B23: Cho vay chứng khoán (nêu chi tiết từng hợp đồng) Securities lending (detail by each contract) | C23: 2292
A24: III | B24: Tổng giá trị các hợp đồng/giá trị tài sản ròng Total contract value/NAV | C24: 2293
A25: 4 | B25: Hợp đồng Reverse Repo (nêu chi tiết từng hợp đồng) Reverse Repo contract (Detail by each contract) | C25: 2295
A26: IV | B26: Tổng giá trị các hợp đồng/giá trị tài sản ròng Total contract value/NAV | C26: 2296
A27: B | B27: Tổng giá trị các khoản cho vay/giá trị tài sản ròng (=III + IV) Total Loans/NAV (=III + IV) | C27: 2297
A30: * Ghi chú: kỳ báo cáo không phát sinh
A32: Đại diện có thẩm quyền của Ngân hàng giám sát | I32: Đại diện có thẩm quyền của Công ty quản lý Quỹ
A33: Authorised Representative of Supervisory Bank | I33: Authorised Representative of Fund Management Company
A44: Ngân hàng TMCP Đầu tư và Phát triển Việt Nam Chi nhánh Nam Kỳ Khởi Nghĩa | I44: Công ty Cổ phần Quản lý Quỹ Phú Hưng
A45: Hoàng Văn Sơn | I45: LU, HUI HUNG
A46: Phó giám đốc chi nhánh | I46: Tổng Giám Đốc

Sheet Khac_06030
A1: Phụ lục XXVI. Mẫu báo cáo về hoạt động của Quỹ Appendix XXVI. Report on Fund's Operation
A2: (Ban hành kèm theo Thông tư số 98/2020/TT-BTC ngày 16 tháng 11 năm 2020 của Bộ trưởng Bộ Tài Chính về hướng dẫn hoạt động và quản lý quỹ đầu tư chứng khoán (Issued in association with Circular 98/2020/TT-BTC dated 16 November 2020 of the Minister of Finance on guiding the operation and management of the securities investment funds)
A3: BÁO CÁO HOẠT ĐỘNG ĐẦU TƯ CỦA QUỸ MỞ REPORT ON FUND'S INVESTMENT ACTIVITIES
A5: Năm 2022/Year 2022
A7: Tên Quỹ: | C7: Quỹ Đầu tư Chọn lọc Phú Hưng Việt Nam
A8: Fund name: | C8: Phu Hung Vietnam Select Investment Fund (PHVSF)
A9: Tên Công ty quản lý quỹ: | C9: Công ty Cổ phần Quản lý Quỹ Phú Hưng
A10: Fund Management Company | C10: Phu Hung Fund Management Joint Stock Company
A11: Tên ngân hàng giám sát: | C11: Ngân hàng TMCP Đầu tư và Phát triển Việt Nam Chi nhánh Nam Kỳ Khởi Nghĩa
A12: Supervising bank: | C12: Bank for Investment and Development of VietNam JSC - Nam Ky Khoi Nghia Branch
A13: Ngày lập báo cáo: | C13: Ngày 19 tháng 01 năm 2023
A14: Reporting Date: | C14: 44945
A15: A. | B15: BÁO CÁO CHUNG VỀ HOẠT ĐỘNG ĐẦU TƯ CỦA QUỸ/GENERAL INFORMATION ON FUND'S INVESTMENT ACTIVITIES
A16: V | B16: MỘT SỐ CHỈ TIÊU KHÁC / OTHER INDICATORS
A17: STT/No. | B17: Chỉ tiêu/Indicators | C17: Mã chỉ tiêu/Code | D17: Năm 2022 Year 2022 | E17: Năm 2021 Year 2021
A18: I | B18: CÁC CHỈ TIÊU VỀ HIỆU QUẢ HOẠT ĐỘNG INVESTMENT PERFORMANCE INDICATORS | C18: 2264
A19: 1 | B19: Tỷ lệ giá dịch vụ quản lý quỹ trả cho công ty quản lý quỹ/Giá trị tài sản ròng trung bình trong kỳ (%) Management fee paid to the fund management company/Average NAV (%) | C19: 2265 | D19: 0.015004652
A20: 2 | B20: Tỷ lệ giá dịch vụ lưu ký, giám sát trả cho Ngân hàng Giám sát/Giá trị tài sản ròng trung bình trong kỳ (%) Custody and supervising fees paid to the Supervisory Bank/Average NAV (%) | C20: 2266 | D20: 0.0037407626
A21: 3 | B21: Tỷ lệ chi phí dịch vụ quản trị quỹ, và các chi phí khác mà công ty quản lý quỹ trả cho tổ chức cung cấp dịch vụ có liên quan/Giá trị tài sản ròng của quỹ trung bình trong kỳ (%) Fund admin fee, and other fees paid to relating services providers by the fund management company/Average NAV (%) | C21: 22661 | D21: 0.0034706469
A22: 4 | B22: Chi phí kiểm toán trả cho tổ chức kiểm toán (nếu phát sinh) / Giá trị tài sản ròng trung bình trong kỳ (%) Audit fee expense over average NAV ratio (%) | C22: 2267 | D22: 0
A23: 5 | B23: Chi phí dịch vụ tư vấn pháp lý, dịch vụ báo giá và các dịch vụ hợp lý khác, thù lao trả cho ban đại diện quỹ / Giá trị tài sản ròng trung bình trong kỳ (%) Legal consultancy, OTC price quotation and other valid service fees; Board of Representatives' remuneration expense over average NAV ratio (%) | C23: 2268 | D23: 0
A24: 6 | B24: Tỷ lệ chi phí /Giá trị tài sản ròng trung bình trong kỳ (%) Expense/Average NAV (%) | C24: 2269 | D24: 0.024666438
A25: 7 | B25: Tốc độ vòng quay danh mục trong kỳ (%) = (Tổng giá trị mua vào + tổng giá trị bán ra) x 100%/ (2 x Giá trị tài sản ròng trung bình trong kỳ) Portfolio turnover rate (%) = (Total value of purchase transactions + total value of sales transactions) x 100%/ (2 x Average NAV) (**) | C25: 2270 | D25: 0.12838183
A26: II | B26: CÁC CHỈ TIÊU KHÁC OTHER INDICATORS | C26: 2272
A27: 1 | B27: Quy mô quỹ đầu kỳ (tính theo mệnh giá chứng chỉ quỹ) Fund scale at the beginning of the period (based on par value of fund certificate) | C27: 2273 | D27: 100149000000
B28: Tổng giá trị chứng chỉ quỹ đang lưu hành đầu kỳ Total value of outstanding Fund Certificate at the beginning of period | C28: 2274 | D28: 100149000000
B29: Tổng số lượng đơn vị quỹ đang lưu hành đầu kỳ Total number of outstanding Fund Certificate at the beginning of period | C29: 2275 | D29: 10014900
A30: 2 | B30: Thay đổi quy mô quỹ trong kỳ (tính theo mệnh giá chứng chỉ quỹ) Change of Fund scale during the period (based on par value of fund certificate) | C30: 2276 | D30: 0
B31: Thay đổi số lượng chứng chỉ quỹ trong kỳ Change of Number of Fund Certificates during the period | C31: 2276.1 | D31: 0
B32: Thay đổi giá trị vốn trong kỳ (theo mệnh giá) Change in capital amount during the period (based on par value) | C32: 2276.2 | D32: 0
B33: Số lượng đơn vị quỹ phát hành thêm trong kỳ Number of Fund Certificates subscribed during the period | C33: 2277 | D33: 0
B34: Giá trị vốn huy động thêm trong kỳ (theo mệnh giá) Net subscription amount in period (based on par value) | C34: 2278 | D34: 0
B35: Số lượng đơn vị quỹ mua lại trong kỳ Number of Fund Certificates redeemed during the period | C35: 22781 | D35: 0
B36: Giá trị vốn phải thanh toán trong kỳ khi đáp ứng lệnh của nhà đầu tư (theo mệnh giá) Net redemption amount in period (based on par value) | C36: 22782 | D36: 0
A37: 3 | B37: Quy mô quỹ cuối kỳ (tính theo mệnh giá chứng chỉ quỹ) Fund scale at the end of the period (based on par value of fund unit) | C37: 2279 | D37: 100149000000
B38: Tổng giá trị chứng chỉ quỹ đang lưu hành cuối kỳ Total value of outstanding Fund Certificate at the end of the period | C38: 2280 | D38: 100149000000
B39: Tổng số lượng đơn vị quỹ đang lưu hành cuối kỳ Total number of outstanding Fund Certificate at the end of the period | C39: 2281 | D39: 10014900
A40: 4 | B40: Tỷ lệ nắm giữ chứng chỉ quỹ của công ty quản lý quỹ và người có liên quan cuối kỳ Fund Management Company and related parties' ownership ratio at the end of the period | C40: 2282 | D40: 0.3495
A41: 5 | B41: Tỷ lệ nắm giữ chứng chỉ quỹ của 10 nhà đầu tư lớn nhất cuối kỳ Top 10 investors' ownership ratio at the end of the period | C41: 2283 | D41: 0.99856214
A42: 6 | B42: Tỷ lệ nắm giữ chứng chỉ quỹ của nhà đầu tư nước ngoài cuối kỳ Foreign investors' ownership ratio at the end of the period | C42: 2284 | D42: 0.4493305
...

Sheet TB 30092015
E2: GENERAL LEDGER TRIAL BALANCE
E3: Fund | F3: VCAMBF | G3: VIET CAPITAL BALANCED FU Page : | H3: 1/2
A4: General Ledger Trail Balance To | E4: 31/10/2015 00:00 Currency VND | G4: DONG Report | H4: : SHJNA102
G5: 03/11/2015 10:57
E6: Nav Type Official | G6: Historical
A7: Account | B7: IFRS Suff Acc | D7: Maturity | E7: Description | G7: - - - - - - - - - - - - - Balance - - - | H7: - - - - - - - - - -
B8: Class | C8: Ccy | D8: Date | G8: Account Ccy | H8: Fund CcyVND
A9: 101100 | C9: VND | E9: Investment - Equities | F9: VND | G9: 27189959504 | H9: 27189959504
A10: 110100 | C10: VND | D10: 09/11/2015 | E10: Bank Deposits | F10: VND | G10: 5000000000 | H10: 5000000000
A11: 110100 | C11: VND | D11: 12/11/2015 | E11: Bank Deposits | F11: VND | G11: 7000000000 | H11: 7000000000
A12: 110100 | C12: VND | D12: 16/11/2015 | E12: Bank Deposits | F12: VND | G12: 4000000000 | H12: 4000000000
A13: 110100 | C13: VND | D13: 30/12/2015 | E13: Bank Deposits | F13: VND | G13: 13000000000 | H13: 13000000000
A14: 132100 | B14: 7 | C14: VND | E14: Dividend Receivable | F14: VND | G14: 112800000 | H14: 112800000
A15: 132150 | B15: 7 | C15: VND | E15: Due From Broker - Equities | F15: VND | G15: 3088160800 | H15: 3088160800
A16: 140130 | B16: 7 | C16: VND | E16: Cash in Bank STANDARD | F16: VND | G16: 6452337403 | H16: 6452337403
E17: CHARTERED BANK VIETNAM
A18: 152190 | B18: - | C18: VND | E18: Int Accrual - Deposit | F18: VND | G18: 103038889 | H18: 103038889
A19: 161100 | B19: - | C19: VND | E19: Prov Unr P/L - Equities | F19: VND | G19: -1452309804 | H19: -1452309804
A20: 161120 | B20: - | C20: VND | E20: Prov Unr P/L - Rights | F20: VND | G20: 349680000 | H20: 349680000
A21: 212150 | B21: 7 | C21: VND | E21: Due to Broker - Equity | F21: VND | G21: -1492792250 | H21: -1492792250
A22: 212222 | B22: - | C22: VND | E22: Payable WHT Tax | F22: VND | G22: -6000000 | H22: -6000000
A23: 213103 | B23: - | C23: VND | E23: Exp Accrual - Admin Fee | F23: VND | G23: -11180000 | H23: -11180000
A24: 213105 | B24: - | C24: VND | E24: Exp Accrual - Audit Fee | F24: VND | G24: -91616438 | H24: -91616438
A25: 213107 | B25: - | C25: VND | E25: Exp Accrual - Custody Fee | F25: VND | G25: -10750000 | H25: -10750000
A26: 213108 | B26: - | C26: VND | E26: Exp Accrual - Directors Fee | F26: VND | G26: -5400000 | H26: -5400000
A27: 213110 | B27: - | C27: VND | E27: Exp Accrual - Fund Svces Fee | F27: VND | G27: -19565000 | H27: -19565000
A28: 213128 | B28: - | C28: VND | E28: Exp Accrual - Transaction Fee | F28: VND | G28: -9600000 | H28: -9600000
A29: 213129 | B29: - | C29: VND | E29: Exp Accrual - Transfer Agt Fee | F29: VND | G29: -11000000 | H29: -11000000
A30: 213154 | B30: - | C30: VND | E30: Exp Accrual - Other Expense | F30: VND | G30: -8328773 | H30: -8328773
A31: 213500 | B31: - | C31: VND | E31: Exp Accrual - Management | F31: VND | G31: -47698050 | H31: -47698050
E32: Fee
A33: 301000 | B33: - | C33: VND | E33: Capital - Subscription | F33: VND | G33: -60597958652 | H33: -60597958652
A34: 302000 | B34: - | C34: VND | E34: Capital - Redemption | F34: VND | G34: 1056863400 | H34: 1056863400
A35: 303102 | B35: - | C35: VND | E35: Unit Premium Reserve | F35: VND | G35: -191086976 | H35: -191086976
A36: 390000 | B36: - | C36: VND | E36: RETAIN EARNINGS | F36: VND | G36: 567698805 | H36: 567698805
A37: 411100 | B37: - | C37: VND | E37: R/L G/P - Equities | F37: VND | G37: -7655111543 | H37: -7655111543
A38: 431100 | B38: - | C38: VND | E38: UR/L G/P - Equities | F38: VND | G38: -1.9763784e+09 | H38: -1.9763784e+09
A39: 431120 | B39: - | C39: VND | E39: UR/L G/P - Rights | F39: VND | G39: -349680000 | H39: -349680000
A40: 441100 | B40: - | C40: VND | E40: UR/L G/FX - Equities | F40: VND | G40: -0.14 | H40: -0.14
A41: 451100 | B41: - | C41: VND | E41: Dividend Income - Equities | F41: VND | G41: -1971571000 | H41: -1971571000
...

Sheet danh muc
A1: STT | B1: Loại tài sản | C1: Mã chỉ tiêu | D1: Số lượng | E1: Giá thị trường hoặc giá trị hợp lý tại ngày báo cáo | F1: Tổng giá trị | G1: Tỷ lệ %/Tổng giá trị tài sản của quỹ
A2: I | B2: Bất động sản đầu tư (áp dụng đối với các quỹ được đầu tư bất động sản)
A3: ... | B3: ... | C3: ... | D3: ... | E3: ... | F3: ... | G3: ...
B4: Tổng | C4: 2264
A5: II | B5: Cổ phiếu niêm yết, đăng ký giao dịch, chứng chỉ quỹ niêm yết | C5: 2246
A6: ... | B6: =BCDanhMucDauTu_06029!B19 -> NT2 | C6: =BCDanhMucDauTu_06029!C19 -> 2246.1 | D6: =BCDanhMucDauTu_06029!D19 -> 8800 | E6: =BCDanhMucDauTu_06029!E19 -> 28850 | F6: =BCDanhMucDauTu_06029!F19 -> 253880000 | G6: =BCDanhMucDauTu_06029!G19 -> 0.0025160693
B7: =BCDanhMucDauTu_06029!B20 -> SAB | C7: =BCDanhMucDauTu_06029!C20 -> 2246.2 | D7: =BCDanhMucDauTu_06029!D20 -> 3800 | E7: =BCDanhMucDauTu_06029!E20 -> 166900 | F7: =BCDanhMucDauTu_06029!F20 -> 634220000 | G7: =BCDanhMucDauTu_06029!G20 -> 0.0062854162
B8: =BCDanhMucDauTu_06029!B21 -> TCM | C8: =BCDanhMucDauTu_06029!C21 -> 2246.3 | D8: =BCDanhMucDauTu_06029!D21 -> 3000 | E8: =BCDanhMucDauTu_06029!E21 -> 53000 | F8: =BCDanhMucDauTu_06029!F21 -> 159000000 | G8: =BCDanhMucDauTu_06029!G21 -> 0.0015757642
B9: =BCDanhMucDauTu_06029!B22 -> TLG | C9: =BCDanhMucDauTu_06029!C22 -> 2246.4 | D9: =BCDanhMucDauTu_06029!D22 -> 6600 | E9: =BCDanhMucDauTu_06029!E22 -> 51000 | F9: =BCDanhMucDauTu_06029!F22 -> 336600000 | G9: =BCDanhMucDauTu_06029!G22 -> 0.0033358631
B10: =BCDanhMucDauTu_06029!B23 -> VNM | C10: =BCDanhMucDauTu_06029!C23 -> 2246.5 | D10: =BCDanhMucDauTu_06029!D23 -> 19400 | E10: =BCDanhMucDauTu_06029!E23 -> 76100 | F10: =BCDanhMucDauTu_06029!F23 -> 1476340000 | G10: =BCDanhMucDauTu_06029!G23 -> 0.014631218
B11: Tổng | C11: 2247 | D11: =BCDanhMucDauTu_06029!D24 -> 41600 | F11: =BCDanhMucDauTu_06029!F24 -> 2860040000 | G11: =BCDanhMucDauTu_06029!G24 -> 0.028344331
A12: II | B12: Cổ phiếu chưa niêm yết, đăng ký giao dịch, chứng chỉ quỹ không niêm yết | C12: 2248
A13: ... | B13: ... | C13: ... | D13: ... | E13: ... | F13: ... | G13: ...
B14: Tổng | C14: 2249
A15: III | B15: Trái phiếu | C15: 2251
A16: ... | B16: ... | C16: ... | D16: ... | E16: ... | F16: ... | G16: ...
B17: Trái phiếu chưa niêm yết | C17: 2251.2
B18: Tổng | C18: 2252
A19: IV | B19: Các loại chứng khoán khác | C19: 2253
A20: ... | B20: ... | C20: ... | D20: ... | E20: ... | F20: ... | G20: ...
B21: Tổng | C21: 2254
B22: Tổng các loại chứng khoán | C22: 2255 | D22: =BCDanhMucDauTu_06029!D36 -> 41600 | F22: =BCDanhMucDauTu_06029!F36 -> 2860040000 | G22: =BCDanhMucDauTu_06029!G36 -> 0.028344331
A23: V | B23: Các tài sản khác | C23: 2256
A24: ... | B24: ... | C24: ... | D24: ... | E24: ... | F24: ... | G24: ...
B25: Tổng | C25: 2257 | F25: =BCDanhMucDauTu_06029!F45 -> 276038082 | G25: 0.033950766
A26: VI | B26: Tiền | C26: 2258
B27: Tiền, tương đương tiền | C27: 2259 | F27: =BCDanhMucDauTu_06029!F47 -> 62767343550 | G27: =BCDanhMucDauTu_06029!G47 -> 0.62205367
A28: ... | B28: ... | C28: ... | D28: ... | E28: ... | F28: ... | G28: ...
B29: Tiền gửi ngân hàng | C29: 2260
A30: ... | B30: Chứng chỉ tiền gửi | C30: 2261 | D30: ... | E30: ...
B32: Tổng | C32: 2262 | F32: =BCDanhMucDauTu_06029!F51 -> 97767343550 | G32: =BCDanhMucDauTu_06029!G51 -> 0.96892
A33: VII | B33: Tổng giá trị danh mục | C33: 2263 | F33: =BCDanhMucDauTu_06029!F52 -> 100903421632 | G33: =BCDanhMucDauTu_06029!G52 -> 1

Sheet ThongKePhiGiaoDich_06145 
A1: Phụ lục XXVI. Mẫu báo cáo về hoạt động của Quỹ Appendix XXVI. Report on Fund's Operation
A2: (Ban hành kèm theo Thông tư số 98/2020/TT-BTC ngày 16 tháng 11 năm 2020 của Bộ trưởng Bộ Tài về hướng dẫn hoạt động và quản lý quỹ đầu tư chứng khoán (Issued in association with Circular 98/2020/TT-BTC dated 16 November 2020 of the Minister of Finance on guiding the operation and management of the securities investment funds
A4: BÁO CÁO VỀ HOẠT ĐỘNG ĐẦU TƯ REPORT ON INVESTMENT ACTIVITIES
A5: Từ ngày 01 tháng 01 đến ngày 31 tháng 12 năm 2022
A8: Tên Quỹ: | C8: Quỹ Đầu tư Chọn lọc Phú Hưng Việt Nam
A9: Fund name: | C9: Phu Hung Vietnam Select Investment Fund (PHVSF)
A10: Tên Công ty quản lý quỹ: | C10: Công ty Cổ phần Quản lý Quỹ Phú Hưng
A11: Fund Management Company: | C11: Phu Hung Fund Management Joint Stock Company
A12: Tên ngân hàng giám sát: | C12: Ngân hàng TMCP Đầu tư và Phát triển Việt Nam Chi nhánh Nam Kỳ Khởi Nghĩa
A13: Supervising bank: | C13: Bank for Investment and Development of VietNam JSC - Nam Ky Khoi Nghia Branch
A14: Ngày lập báo cáo: | C14: Ngày 19 tháng 01 năm 2023
A15: Reporting Date: | C15: 44945
A17: A. | B17: BÁO CÁO CHUNG VỀ HOẠT ĐỘNG ĐẦU TƯ CỦA QUỸ/GENERAL INFORMATION ON FUND'S INVESTMENT ACTIVITIES
A18: VI | B18: THỐNG KÊ GIÁ DỊCH VỤ GIAO DỊCH /REPORT ON BROKER FEE
A19: Số thứ tự No. | B19: Tên (mã) các công ty chứng khoán (có giá trị giao dịch vượt quá 5% tổng giá trị giao dịch kỳ báo cáo) Name (code) of securities companies (with transaction value exceeding 5% of the Fund’s total transaction value for the year) | C19: Quan hệ với công ty quản lý quỹ Relationship with the Fund Management Company | D19: Tỷ lệ giao dịch của quỹ qua từng công ty chứng khoán Percentage of transactions value at securities companies | G19: Phí giao dịch bình quân Average transaction fee rate | H19: Phí giao dịch bình quân trên thị trường Market average transaction fee rate
D20: Giá trị giao dịch trong kỳ báo cáo của quỹ Fund’s transaction value for the year with each securities company | E20: Tổng giá trị giao dịch trong kỳ báo cáo của quỹ (*) Fund’s total transaction value for the year (*) | F20: Tỷ lệ giao dịch của quỹ qua công ty chứng khoán trong kỳ báo cáo Percentage of the Fund’s total transaction value for the year
A21: (1) | B21: (2) | C21: (3) | D21: (4) | E21: (5) | F21: (6) = (4)/(5) | G21: (7) | H21: (8)
A22: 1 | B22: Công ty Cổ phần Chứng khoán VNDirect | C22: Không có liên quan | D22: 410840000 | E22: 2887665000 | F22: 0.14227412 | G22: 0.0015 | H22: 0.15% - 0.2%
A23: 2 | B23: Công ty cổ phần chứng khoán Phú Hưng | C23: Người có liên quan | D23: 824185000 | E23: 2887665000 | F23: 0.28541573 | G23: 0.0015 | H23: 0.15% - 0.2%
A24: 3 | B24: Công ty Cổ phần Chứng khoán TP.HCM | C24: Không có liên quan | D24: 317110000 | E24: 2887665000 | F24: 0.10981537 | G24: 0.0015 | H24: 0.15% - 0.2%
A25: 4 | B25: Công ty Cổ phần Chứng khoán Bản Việt | C25: Không có liên quan | D25: 330510000 | E25: 2887665000 | F25: 0.1144558 | G25: 0.0015 | H25: 0.15% - 0.2%
A26: 5 | B26: Công ty TNHH Chứng khoán NHTMCP Ngoại Thương Việt Nam | C26: Không có liên quan | D26: 1005020000 | E26: 2887665000 | F26: 0.34803899 | G26: 0.0015 | H26: 0.15% - 0.2%
A27: Tổng | D27: 2887665000 | F27: 1
A29: Đại diện có thẩm quyền của Ngân hàng giám sát | E29: Đại diện có thẩm quyền của Công ty quản lý quỹ
A30: Authorised Representative of Supervisory Bank | E30: Authorised Representative of Fund Management Company
A38: NH TMCP Đầu tư và Phát triển Việt Nam CN Nam Kỳ Khởi Nghĩa | E38: Công ty Cổ phần Quản lý Quỹ Phú Hưng
A39: Hoàng Văn Sơn | E39: LU, HUI HUNG
A40: Phó giám đốc Chi nhánh | E40: Tổng Giám Đốc
