Workbook
Name DKCO: #REF!
Name DKNO: #REF!
Name Donvi: #REF!
Name LM: #REF!
Name LN: #REF!
Name Taikhoan: #REF!
Name TaxTV: 10%
Name TaxXL: 5%
Name TK_BS: #REF!
Name TK_PL: #REF!
Name TK_TB: #REF!
Name TKBS: #REF!
Name Ý_kiến: #REF!
Name YKien: #REF!
Name ZYX: #REF!
Name ZZZ: #REF!

Sheet Tong quat
A1: Kỳ báo cáo: | C1: Tại ngày 30 tháng 11 năm 2023/As at 30 November 2023
C2: Tháng 11 năm 2023/November 2023
A4: Thông tin chung:
C5: Tên Quỹ: | D5: Quỹ Đầu tư Chọn lọc Phú Hưng Việt Nam
C6: Fund name: | D6: Phu Hung Vietnam Select Investment Fund (PHVSF)
C7: Tên Công ty quản lý quỹ: | D7: Công ty Cổ phần Quản lý Quỹ Phú Hưng
C8: Fund Management Company: | D8: Phu Hung Fund Management Joint Stock Company
C9: Tên ngân hàng giám sát: | D9: Ngân hàng TMCP Đầu tư và Phát triển Việt Nam CN Nam Kỳ Khởi Nghĩa
C10: Supervising bank: | D10: Bank for Investment and Development of VietNam JSC - Nam Ky Khoi Nghia Branch
C11: Ngày lập báo cáo: | D11: Ngày 01 tháng 12 năm 2023
C12: Reporting Date: | D12: 45261
A14: Người ký báo cáo:
C16: Đại diện có thẩm quyền của Ngân hàng giám sát | F16: Đại diện có thẩm quyền của Công ty quản lý Quỹ
C17: Authorised Representative of Supervisory Bank | F17: Authorised Representative of Fund Management Company
C19: NH TMCP ĐT & PT Việt Nam CN Nam Kỳ Khởi Nghĩa | F19: Công ty Cổ phần Quản lý Quỹ Phú Hưng
C20: Hoàng Văn Sơn | F20: LU, HUI HUNG
C21: Phó giám đốc Chi nhánh | F21: Tổng Giám Đốc
B27: STT | C27: Nội dung | E27: Tên sheet
B28: A | C28: BÁO CÁO CHUNG VỀ HOẠT ĐỘNG ĐẦU TƯ CỦA QUỸ
B29: 1 | C29: Báo cáo thu nhập | E29: BCThuNhap_06203
B30: 2 | C30: Báo cáo tình hình tài chính | E30: BCTinhHinhTaiChinh_06105
B31: 3 | C31: Báo cáo lưu chuyển tiền tệ | E31: BCLCGT_06262
B32: 4 | C32: Báo cáo tài sản | E32: BCTaiSan_06027
B33: 5 | C33: Baó cáo Kết quả hoạt động | E33: BCKetQuaHoatDong_06028
B34: 6 | C34: Baáo cáo Danh mục đầu tư | E34: BCDanhmucdautu_06029
B35: 7 | C35: Giá trị tài sản ròng | E35: GiaTriTaiSanRong_06129
B36: 8 | C36: Báo cáo hoạt động vay | E36: Bchoatdongvay_06026
B37: 9 | C37: Báo cáo chỉ tiêu khác | E37: Khac_06030
B38: 10 | C38: Thống kê phí giao dịch
B39: B | C39: BÁO CÁO TÌNH HÌNH TỰ DOANH ĐẦU TƯ GIÁN TIẾP RA NƯỚC NGOÀI CỦA QUỸ | E39: Không có
B42: Thống kê các Thuyết minh BCTC
D44: Có trình bày Y/N/O | E44: Nguyên nhân không trình bày
B45: 1/ | C45: Tiền gửi Ngân hàng | D45: Y
B46: 2/ | C46: Các khoản đầu tư | D46: Y
B47: 3/ | C47: Các khoản dự phòng | D47: O | E47: Chỉ có VF1 trình bày, các Quỹ khác không có khoản mục này không phải trình bày
B48: 4/ | C48: Vay ngắn hạn | D48: N | E48: Không có số dư không trình bày
B49: 5/ | C49: Phải trả mua các khoản đầu tư | D49: N | E49: Không có số dư không trình bày
B50: 6/ | C50: Phải trả các Đại lý phân phối, Công ty Quản lý quỹ về phí phát hành và mua lại Chứng chỉ quỹ | D50: N | E50: Trên báo cáo chính đã chi tiết theo từng khoản mục
B51: 7/ | C51: Thuế và các khoản phải nộp Nhà nước | D51: N | E51: Không bắt buộc, Quỹ chỉ có khoản mục thuế từ hoạt động mua bán CCQ và Thù lao BDD
B52: 8/ | C52: Phải trả thu nhập cho Nhà đầu tư | D52: N | E52: Quỹ nào có chia cổ tức mới trình bày
...

Sheet BCThuNhap_06203
A1: Mẫu số B01g - QM. Báo cáo thu nhập Template B01g - QM. Statement of Comprehensive Income
A2: (Ban hành kèm theo Thông tư 198/2012/TT-BTC ngày 15 tháng 11 năm 2012 về chế độ kế toán áp dụng đối với quỹ mở) (Issued in association with Circular 198/2012/TT-BTC dated 15 Nov 2012 on the Accounting Policies for Open-Ended Fund)
A3: BÁO CÁO THU NHẬP STATEMENT OF COMPREHENSIVE INCOME
A5: Tháng 11 năm 2023/ November 2023
A7: Tên Quỹ: | B7: Quỹ Đầu tư Chọn lọc Phú Hưng Việt Nam
A8: Fund name: | B8: Phu Hung Vietnam Select Investment Fund (PHVSF)
A9: Tên Công ty quản lý quỹ: | B9: Công ty Cổ phần Quản lý Quỹ Phú Hưng
A10: Fund Management Company: | B10: Phu Hung Fund Management Joint Stock Company
A11: Tên ngân hàng giám sát: | B11: Ngân hàng TMCP Đầu tư và Phát triển Việt Nam Chi nhánh Nam Kỳ Khởi Nghĩa
A12: Supervising bank: | B12: Bank for Investment and Development of VietNam JSC - Nam Ky Khoi Nghia Branch
A13: Ngày lập báo cáo: | B13: Ngày 01 tháng 12 năm 2023
A14: Reporting Date: | B14: 45261
A16: Chỉ tiêu Indicator | B16: Mã số Code | C16: Thuyết minh Note | D16: Năm 2023 Year 2023 | F16: Năm 2022 Year 2022
D17: Tháng 11 năm 2023 November 2023 | E17: Số lũy kế Year-to-date | F17: Tháng 11 năm 2022 November 2023 | G17: Số lũy kế Year-to-date
A18: I. THU NHẬP, DOANH THU HOẠT ĐỘNG ĐẦU TƯ Investment income | B18: 01 | D18: 7887449272 | E18: 4475955427 | F18: 34307805 | G18: 34307805
A19: 1.1. Cổ tức, trái tức được chia Dividend, bond interest received | B19: 02 | D19: 318711010 | E19: 1377501010 | F19: 0 | G19: 0
A20: Cổ tức được nhận Dividend received | B20: 02.1 | D20: 318711010 | E20: 1377501010 | F20: 0 | G20: 0
A21: Trái tức được nhận Coupon received | B21: 02.2 | D21: 0 | E21: 0 | F21: 0 | G21: 0
A22: 1.2. Tiền lãi được nhận Interest income | B22: 03 | D22: 32777412 | E22: 1678252667 | F22: 34307805 | G22: 34307805
A23: Tiền lãi tiền gửi được nhận Bank Deposit Interest received | B23: 03.1 | D23: 32777412 | E23: 1678252667 | F23: 34307805 | G23: 34307805
A24: Lãi chứng chỉ tiền gửi Interest income from Certificate of Deposit | B24: 03.2 | D24: 0 | E24: 0 | F24: 0 | G24: 0
A25: 1.3. Lãi (lỗ) bán các khoản đầu tư Realized gain (losses) from disposal investments | B25: 04 | D25: -948833514 | E25: -4267608793 | F25: 0 | G25: 0
A26: 1.4. Chênh lệch tăng, giảm đánh giá lại các khoản đầu tư chưa thực hiện Unrealized gain (losses) from investment revaluation | B26: 05 | D26: 8484794364 | E26: 5687810543 | F26: 0 | G26: 0
A27: 1.5. Doanh thu khác Other income | B27: 06 | D27: 0 | E27: 0 | F27: 0 | G27: 0
A28: 1.6. Chênh lệch lãi, lỗ tỷ giá hối đoái đã và chưa thực hiện Realized and unrealized gain (losses) from foreign exchange | B28: 07 | D28: 0 | E28: 0 | F28: 0 | G28: 0
A29: 1.7. Doanh thu khác về đầu tư Other investment income | B29: 08 | D29: 0 | E29: 0 | F29: 0 | G29: 0
... A70: 6.2. Lợi nhận/(lỗ) chưa thực hiện Unrealized profit (losses) | B70: 32 | D70: 8484794364 | E70: 5687810543 | F70: 0 | G70: 0
A71: VII. CHI PHÍ THUẾ TNDN CORPORATE INCOME TAX | B71: 40 | F71: 0 | G71: 0
A72: VIII. LỢI NHUẬN KẾ TOÁN SAU THUẾ TNDN PROFIT AFTER TAX (41=30-40) | B72: 41 | D72: =D68-D71 -> 7609772221 | E72: =E68-E71 -> 1946515322 | F72: =F68-F71 -> -63870814 | G72: =G68-G71 -> -63870814
A76: Công ty Cổ phần Quản lý Quỹ Phú Hưng
A79: Người lập | E79: Người duyệt
A87: Nguyễn Thị Hương Huệ | D87: Nguyễn Thị Hương Huệ | F87: LU, HUI HUNG
A88: Kế toán | D88: Phụ trách kế toán Quỹ | F88: Tổng Giám Đốc

Sheet BCTinhHinhTaiChinh_06105
A1: Mẫu số B02g - QM. Báo cáo tình hình tài chính Template B02g - QM. Statement of Financial Position
A2: (Ban hành kèm theo Thông tư 198/2012/TT-BTC ngày 15 tháng 11 năm 2012 về chế độ kế toán áp dụng đối với quỹ mở) (Issued in association with Circular 198/2012/TT-BTC dated 15 Nov 2012 on the Accounting Policies for Open-Ended Fund)
A3: BÁO CÁO TÌNH HÌNH TÀI CHÍNH STATEMENT OF FINANCIAL POSITION
A5: Tại 30 tháng 11 năm 2023/As at 30 November 2023
A7: Tên Quỹ: | B7: Quỹ Đầu tư Chọn lọc Phú Hưng Việt Nam
A8: Fund name: | B8: Phu Hung Vietnam Select Investment Fund (PHVSF)
A9: Tên Công ty quản lý quỹ: | B9: Công ty Cổ phần Quản lý Quỹ Phú Hưng
A10: Fund Management Company: | B10: Phu Hung Fund Management Joint Stock Company
A11: Tên ngân hàng giám sát: | B11: Ngân hàng TMCP Đầu tư và Phát triển Việt Nam Chi nhánh Nam Kỳ Khởi Nghĩa
A12: Supervising bank: | B12: Bank for Investment and Development of VietNam JSC - Nam Ky Khoi Nghia Branch
A13: Ngày lập báo cáo: | B13: =BCThuNhap_06203!B13 -> Ngày 01 tháng 12 năm 2023
A14: Reporting Date: | B14: =BCThuNhap_06203!B14 -> 45261
A16: Chỉ tiêu Indicator | B16: Mã số Code | C16: Thuyết minh Note | D16: Ngày 30 tháng 11 năm 2023 As at 30 November 2023 | E16: Ngày 31 tháng 10 năm 2023 As at 31 October 2023
A17: I. TÀI SẢN ASSETS
A18: 1.Tiền gửi ngân hàng và tương đương tiền Cash at bank and cash equivalent | B18: 110 | D18: 15197443028 | E18: 9060441112
A19: 1.1. Tiền gửi ngân hàng cho hoạt động của Quỹ mở Cash at bank for Fund's operation | B19: 111 | D19: 15197443028 | E19: 9060441112
A20: Tiền gửi của nhà đầu tư cho hoạt động mua chứng chỉ quỹ Cash at bank for Fund's subscription | B20: 111.1 | D20: 10005900000 | E20: 18650000
A21: Tiền phải trả cho Nhà đầu tư về mua lại chứng chỉ quỹ Cash at bank for Fund's redemption | B21: 111.2 | D21: 0 | E21: 0
A22: Tiền gửi ngân hàng cho hoạt động của Quỹ Cash at bank for Fund's operation | B22: 111.3 | D22: 5191543028 | E22: 9041791112
A23: 1.2. Tiền gửi có kỳ hạn dưới 3 tháng Term deposit less than 3 months | B23: 112 | D23: 0 | E23: 0
A24: 2. Các khoản đầu tư thuần Investment | B24: 120 | D24: 120614240050 | E24: 85562268350
A25: 2.1. Các khoản đầu tư Investments | B25: 121 | D25: 120614240050 | E25: 85562268350
A26: Cổ phiếu niêm yết Listed shares | B26: 121.1 | D26: 115614240050 | E26: 80562268350
A27: Cổ phiếu chưa niêm yết Unlisted shares | B27: 121.2 | D27: 0 | E27: 0
A28: Trái phiếu Bonds | B28: 121.3 | D28: 0 | E28: 0
A29: Hợp đồng tiền gửi có kỳ hạn trên ba (03) tháng Deposit with term over three (03) months | B29: 121.4 | D29: 5000000000 | E29: 5000000000
... A36: Phải thu cổ tức, tiền lãi đến ngày nhận Dividend and interest receivables | B36: 134 | D36: 0 | E36: 0
A37: Trong đó: Phải thu khó đòi về cổ tức, tiền lãi đến ngày nhận nhưng chưa nhận được In which: Overdue receivables from dividend, interest income | B37: 135 | D37: 0 | E37: 0
A38: Dự thu cổ tức, tiền lãi chưa đến ngày nhận Accrual dividend, interest income | B38: 136 | D38: 337890188 | E38: 302396301
A39: Phải thu cổ tức Dividend receivable | B39: 136.1 | D39: 205671010 | E39: 201410000
A40: Phải thu lãi tiền gửi có kỳ hạn Interest receivable from term deposit | B40: 136.2 | D40: 132219178 | E40: 100986301
A41: Phải thu lãi chứng chỉ tiền gửi ghi danh Interest receivable from registered Deposit Certificate | B41: 136.3 | D41: 0 | E41: 0
A42: Phải thu trái tức Coupond receivable | B42: 136.4 | D42: 0 | E42: 0
A43: Phải thu lãi hợp đồng mua lại đảo ngược Interest receivable from reverse repo contract | B43: 136.5 | D43: 0 | E43: 0
A44: 3.3. Các khoản phải thu khác Other receivables | B44: 137 | D44: 0 | E44: 0
A45: 3.4. Dự phòng nợ phải thu khó đòi Provision for doubtful debt | B45: 138 | D45: 0 | E45: 0
A46: TỔNG TÀI SẢN TOTAL ASSETS | B46: 100 | D46: 136303546266 | E46: 97589820763
A47: II. NỢ PHẢI TRẢ TOTAL LIABILITIES | B47: II | D47: 0 | E47: 0
A48: 1. Vay ngắn hạn - hợp đồng repo Shorterm loans - Repo | B48: 311 | D48: 0 | E48: 0
A49: 2. Phải trả về mua các khoản đầu tư Payables for securities bought but not yet settled | B49: 312 | D49: 2528945000 | E49: 1473450000
...

Sheet BCTaiSan_06027
A1: Phụ lục XXVI. Mẫu báo cáo về hoạt động của Quỹ Appendix XXVI. Report on Fund's Operation
A2: (Ban hành kèm theo Thông tư số 98/2020/TT-BTC ngày 16 tháng 11 năm 2020 của Bộ trưởng Bộ Tài Chính về hướng dẫn hoạt động và quản lý quỹ đầu tư chứng khoán (Issued in association with Circular 98/2020/TT-BTC dated 16 November 2020 of the Minister of Finance on guiding the operation and management of the securities investment funds
A3: BÁO CÁO HOẠT ĐỘNG ĐẦU TƯ CỦA QUỸ MỞ REPORT ON FUND'S INVESTMENT ACTIVITIES
A5: =BCTinhHinhTaiChinh_06105!A5 -> Tại 30 tháng 11 năm 2023/As at 30 November 2023
A7: Tên Quỹ: | C7: Quỹ Đầu tư Chọn lọc Phú Hưng Việt Nam
A8: Fund name: | C8: Phu Hung Vietnam Select Investment Fund (PHVSF)
A9: Tên Công ty quản lý quỹ: | C9: Công ty Cổ phần Quản lý Quỹ Phú Hưng
A10: Fund Management Company: | C10: Phu Hung Fund Management Joint Stock Company
A11: Tên ngân hàng giám sát: | C11: Ngân hàng TMCP Đầu tư và Phát triển Việt Nam CN Nam Kỳ Khởi Nghĩa
A12: Supervising bank: | C12: Bank for Investment and Development of VietNam JSC - Nam Ky Khoi Nghia Branch
A13: Ngày lập báo cáo: | C13: =BCThuNhap_06203!B13 -> Ngày 01 tháng 12 năm 2023
A14: Reporting Date: | C14: =BCThuNhap_06203!B14 -> 45261
A15: A. | B15: BÁO CÁO CHUNG VỀ HOẠT ĐỘNG ĐẦU TƯ CỦA QUỸ/GENERAL INFORMATION ON FUND'S INVESTMENT ACTIVITIES
A16: I | B16: BÁO CÁO TÀI SẢN CỦA QUỸ / ASSET REPORT
A17: STT No. | B17: Nội dung Indicator | C17: Mã chỉ tiêu Code | D17: Ngày 30 tháng 11 năm 2023 As at 30 November 2023 | E17: Ngày 31 tháng 10 năm 2023 As at 31 October 2023 | F17: %/cùng kỳ năm trước %/against last year
A18: I | B18: TÀI SẢN ASSETS | C18: 2200
A19: I.1 | B19: Tiền và các khoản tương đương tiền Cash and Cash Equivalents | C19: 2201 | D19: 15197443028 | E19: 9060441112 | F19: 0.15172668
B20: Tiền Cash | C20: 2202 | D20: 0 | E20: 0 | F20: 0
B21: Tiền gửi ngân hàng Cash at Bank | C21: 2203 | D21: 15197443028 | E21: 9060441112 | F21: 0.15172668
B22: Tiền gửi của nhà đầu tư cho hoạt động mua chứng chỉ quỹ Cash at bank for Fund's subscription | C22: 2203.1 | D22: 10005900000 | E22: 18650000 | F22: 0
B23: Tiền phải trả cho Nhà đầu tư về mua lại chứng chỉ quỹ Cash at bank for Fund's redemption | C23: 2203.2 | D23: 0 | E23: 0 | F23: 0
B24: Tiền gửi ngân hàng cho hoạt động của Quỹ Cash at bank for Fund's operation | C24: 2203.3 | D24: 5191543028 | E24: 9041791112 | F24: 0.051830798
B25: Các khoản tương đương tiền Cash Equivalents | C25: 2204 | D25: 0 | E25: 0 | F25: 0
A26: I.2 | B26: Các khoản đầu tư (kê chi tiết) Investments | C26: 2205 | D26: 120614240050 | E26: 85562268350 | F26: 0
B27: Cổ phiếu niêm yết Listed shares | C27: 2205.1 | D27: 115614240050 | E27: 80562268350 | F27: 0
B28: Cổ phiếu chưa niêm yết Unlisted shares | C28: 2205.2 | D28: 0 | E28: 0 | F28: 0
B29: Trái phiếu Bonds | C29: 2205.3 | D29: 0 | E29: 0 | F29: 0
B30: Hợp đồng tiền gửi có kỳ hạn quá ba (03) tháng Deposit with term over three (03) months | C30: 2205.4 | D30: 5000000000 | E30: 5000000000 | F30: 0
B31: Chứng chỉ tiền gửi ghi danh Registered Deposit Certificate | C31: 2205.5 | D31: 0 | E31: 0 | F31: 0
B32: Quyền mua chứng khoán Investments - Rights | C32: 2205.6 | D32: 0 | E32: 0 | F32: 0
A33: I.3 | B33: Cổ tức, trái tức được nhận Dividend, Coupon Receivables | C33: 2206 | D33: 205671010 | E33: 201410000 | F33: 0
B34: Cổ tức được nhận Dividend receivables | C34: 2206.1 | D34: 205671010 | E34: 201410000 | F34: 0
B35: Trái tức được nhận Coupon Receivables | C35: 2206.2 | D35: 0 | E35: 0 | F35: 0
A36: I.4 | B36: Lãi được nhận Interest Receivables | C36: 2207 | D36: 132219178 | E36: 100986301 | F36: 0
B37: Phải thu lãi tiền gửi có kỳ hạn Interest receivable from term deposit | C37: 2207.1 | D37: 132219178 | E37: 100986301 | F37: 0
B38: Phải thu lãi chứng chỉ tiền gửi ghi danh Interest receivable from registered Deposit Certificate | C38: 2207.2 | D38: 0 | E38: 0 | F38: 0
A39: I.5 | B39: Tiền bán chứng khoán chờ thu Securities Trading Receivables | C39: 2208 | D39: 153973000 | E39: 2664715000 | F39: 0
A40: I.6 | B40: Các khoản phải thu khác Other Receivables | C40: 2210 | D40: 0 | E40: 0 | F40: 0
A41: I.7 | B41: Các tài sản khác Other Assets | C41: 2211 | D41: 0 | E41: 0 | F41: 0
A42: I.8 | B42: TỔNG TÀI SẢN TOTAL ASSETS | C42: 2212 | D42: 136303546266 | E42: 97589820763 | F42: 1.3608134
...

Sheet BCKetQuaHoatDong_06028
A1: Phụ lục XXVI. Mẫu báo cáo về hoạt động của Quỹ Appendix XXVI. Report on Fund's Operation
A2: (Ban hành kèm theo Thông tư số 98/2020/TT-BTC ngày 16 tháng 11 năm 2020 của Bộ trưởng Bộ Tài Chính về hướng dẫn hoạt động và quản lý quỹ đầu tư chứng khoán (Issued in association with Circular 98/2020/TT-BTC dated 16 November 2020 of the Minister of Finance on guiding the operation and management of the securities investment funds
A3: BÁO CÁO HOẠT ĐỘNG ĐẦU TƯ CỦA QUỸ MỞ REPORT ON FUND'S INVESTMENT ACTIVITIES
A5: =BCThuNhap_06203!A5 -> Tháng 11 năm 2023/ November 2023
A7: Tên Quỹ: | C7: Quỹ Đầu tư Chọn lọc Phú Hưng Việt Nam
A8: Fund name: | C8: Phu Hung Vietnam Select Investment Fund (PHVSF)
A9: Tên Công ty quản lý quỹ: | C9: Công ty Cổ phần Quản lý Quỹ Phú Hưng
A10: Fund Management Company: | C10: Phu Hung Fund Management Joint Stock Company
A11: Tên ngân hàng giám sát: | C11: Ngân hàng TMCP Đầu tư và Phát triển Việt Nam Chi nhánh Nam Kỳ Khởi Nghĩa
A12: Supervising bank: | C12: Bank for Investment and Development of VietNam JSC - Nam Ky Khoi Nghia Branch
A13: Ngày lập báo cáo: | C13: =BCThuNhap_06203!B13 -> Ngày 01 tháng 12 năm 2023
A14: Reporting Date: | C14: =BCThuNhap_06203!B14 -> 45261
A15: A. | B15: BÁO CÁO CHUNG VỀ HOẠT ĐỘNG ĐẦU TƯ CỦA QUỸ/GENERAL INFORMATION ON FUND'S INVESTMENT ACTIVITIES
A16: II | B16: BÁO CÁO KẾT QUẢ HOẠT ĐỘNG / PROFIT AND LOSS REPORT
A17: STT No. | B17: Chỉ tiêu Indicator | C17: Mã chỉ tiêu Code | D17: Tháng 11 năm 2023 November 2023 | E17: Tháng 10 năm 2023 October 2023 | F17: Lũy kế từ đầu năm Accumulated from beginning of year
A18: I | B18: Thu nhập từ hoạt động đầu tư Income from Investment Activities | C18: 2220 | D18: 351488422 | E18: 113148789 | F18: 3055753677
A19: 1 | B19: Cổ tức, trái tức được nhận Dividend, Coupon received | C19: 2221 | D19: 318711010 | E19: 79650000 | F19: 1377501010
B20: Cổ tức được nhận Dividend received | C20: 2221.1 | D20: 318711010 | E20: 79650000 | F20: 1377501010
B21: Trái tức được nhận Coupon received | C21: 2221.2 | D21: 0 | E21: 0 | F21: 0
A22: 2 | B22: Lãi được nhận Income from Interest | C22: 2222 | D22: 32777412 | E22: 33498789 | F22: 1678252667
A23: 3 | B23: Các khoản thu nhập khác Other income | C23: 2223 | D23: 0 | E23: 0 | F23: 0
A24: II | B24: Chi phí Expense | C24: 2224 | D24: 277677051 | E24: 256851475 | F24: 2529440105
A25: 1 | B25: Chi phí quản lý trả cho Công ty quản lý quỹ Management Fee paid to Fund Management Company | C25: 2225 | D25: 138871828 | E25: 132325660 | F25: 1445325268
A26: 2 | B26: Chi phí lưu ký, giám sát trả cho Ngân hàng Giám sát/VSDC Custody fee, Supervising fee paid to Supervising Bank/VSDC | C26: 2226 | D26: 34052955 | E26: 31587780 | F26: 301803855
B27: Phí dịch vụ lưu ký - bảo quản tài sản Custodian service - Custody Fee | C27: 2226.1 | D27: 15000000 | E27: 15000000 | F27: 165000000
B28: Phí dịch vụ lưu ký - giao dịch chứng khoán Custodian service - Transaction fee | C28: 2226.2 | D28: 12757923 | E28: 10278393 | F28: 71474402
B29: Phí dịch vụ lưu ký tại VSDC Custodian fee at VSDC | C29: 2226.3 | D29: 795032 | E29: 809387 | F29: 4829453
B30: Phí giám sát Supervisory fee | C30: 2226.4 | D30: 5500000 | E30: 5500000 | F30: 60500000
A31: 3 | B31: Chi phí dịch vụ quản trị quỹ, chi phí dịch vụ đại lý chuyển nhượng và các chi phí khác mà công ty quản lý quỹ trả cho tổ chức cung cấp dịch vụ có liên quan Fund Administration Fee, Transfer Agency Fee, and other fee paid to relevant Fund's service providers | C31: 2227 | D31: 27500000 | E31: 27500000 | F31: 302500000
B32: Chi phí dịch vụ quản trị Quỹ Fund Administration Fee | C32: 2227.1 | D32: 16500000 | E32: 16500000 | F32: 181500000
B33: Chi phí dịch vụ Đại lý Chuyển nhượng Transfer Agency Fee | C33: 2227.2 | D33: 11000000 | E33: 11000000 | F33: 121000000
A34: 4 | B34: Chi phí kiểm toán trả cho tổ chức kiểm toán Audit fee | C34: 2228 | D34: 13457178 | E34: 14197640 | F34: 116894251
A35: 5 | B35: Chi phí dịch vụ tư vấn pháp lý, dịch vụ báo giá và các dịch vụ hợp lý khác, thù lao trả cho ban đại diện quỹ Legal consultancy expenses, price quotation fee, other valid expenses, remuneration payable to fund representative board | C35: 2229 | D35: 0 | E35: 0 | F35: 0
B36: Thù lao ban đại diện Quỹ Remuneration of Fund's Board of Representatives | C36: 2229.1 | D36: 0 | E36: 0 | F36: 0
B37: Chi phí cung cấp báo giá chứng khoán Price feed fee Expenses | C37: 2229.2 | D37: 0 | E37: 0 | F37: 0
A38: 6 | B38: Chi phí dự thảo, in ấn, gửi bản cáo bạch, bản cáo bạch tóm tắt, báo cáo tài chính, xác nhận giao dịch, sao kê tài khoản và các tài liệu khác cho nhà đầu tư; chi phí công bố thông tin của quỹ; chi phí tổ chức họp đại hội nhà đầu tư, ban đại diện quỹ Fee for drafting, printing, distribution of prospectus, summarised propectus, financial statements, transaction confirmations, account statements and other documents to investors; information disclosure fee; fee for organising annual general meeting, board of representatives meeting | C38: 2230 | D38: 0 | E38: 0 | F38: 0
B39: Chi phí họp Đại hội Quỹ Meeting expense | C39: 2230.1 | D39: 0 | E39: 0 | F39: 0
B40: Phí báo cáo thường niên Annual report expense | C40: 2230.2 | D40: 0 | E40: 0 | F40: 0
B41: Chi phí họp, công tác của ban đại diện Fund's Board of Representatives meeting, travelling expense | C41: 2230.3 | D41: 0 | E41: 0 | F41: 0
B42: Chi phí công bố thông tin của Quỹ Expenses for information disclosure of the Fund | C42: 2230.4 | D42: 0 | E42: 0 | F42: 0
...

Sheet BCDanhMucDauTu_06029
A1: Phụ lục XXVI. Mẫu báo cáo về hoạt động của Quỹ Appendix XXVI. Report on Fund's Operation
A2: (Ban hành kèm theo Thông tư số 98/2020/TT-BTC ngày 16 tháng 11 năm 2020 của Bộ trưởng Bộ Tài Chính về hướng dẫn hoạt động và quản lý quỹ đầu tư chứng khoán (Issued in association with Circular 98/2020/TT-BTC dated 16 November 2020 of the Minister of Finance on guiding the operation and management of the securities investment funds)
A3: BÁO CÁO HOẠT ĐỘNG ĐẦU TƯ CỦA QUỸ MỞ REPORT ON FUND'S INVESTMENT ACTIVITIES
A5: =BCTinhHinhTaiChinh_06105!A5 -> Tại 30 tháng 11 năm 2023/As at 30 November 2023
A7: Tên Quỹ: | C7: Quỹ Đầu tư Chọn lọc Phú Hưng Việt Nam
A8: Fund name: | C8: Phu Hung Vietnam Select Investment Fund (PHVSF)
A9: Tên Công ty quản lý quỹ: | C9: Công ty Cổ phần Quản lý Quỹ Phú Hưng
A10: Fund Management Company: | C10: Phu Hung Fund Management Joint Stock Company
A11: Tên ngân hàng giám sát: | C11: Ngân hàng TMCP Đầu tư và Phát triển Việt Nam Chi nhánh Nam Kỳ Khởi Nghĩa
A12: Supervising bank: | C12: Bank for Investment and Development of VietNam JSC - Nam Ky Khoi Nghia Branch
A13: Ngày lập báo cáo: | C13: =BCThuNhap_06203!B13 -> Ngày 01 tháng 12 năm 2023
A14: Reporting Date: | C14: =BCThuNhap_06203!B14 -> 45261
A15: A. | B15: BÁO CÁO CHUNG VỀ HOẠT ĐỘNG ĐẦU TƯ CỦA QUỸ/GENERAL INFORMATION ON FUND'S INVESTMENT ACTIVITIES
A16: III | B16: BÁO CÁO VỀ TÌNH HÌNH DANH MỤC ĐẦU TƯ CỦA QUỸ / INVESTMENT PORTFOLIO REPORT
A17: STT No. | B17: Loại Category | C17: Mã chỉ tiêu Code | D17: Số Lượng Quantity | E17: Giá thị trường hoặc giá trị hợp lý tại ngày báo cáo Market price | F17: Tổng giá trị (Đồng) Value (VND) | G17: Tỷ lệ % Tổng giá trị tài sản của Quỹ % of total asset
A18: I | B18: CỔ PHIẾU NIÊM YẾT LISTED EQUITY | C18: 2246
B19: ACB | C19: 2246.1 | D19: 283535 | E19: 21950 | F19: 6223593250 | G19: 0.045659804
B20: CSV | C20: 2246.2 | D20: 22200 | E20: 38100 | F20: 845820000 | G20: 0.0062054145
B21: CTG | C21: 2246.3 | D21: 147498 | E21: 26300 | F21: 3879197400 | G21: 0.028459989
B22: CTR | C22: 2246.4 | D22: 48100 | E22: 92000 | F22: 4425200000 | G22: 0.032465773
B23: DCM | C23: 2246.5 | D23: 53800 | E23: 32000 | F23: 1721600000 | G23: 0.012630632
B24: DHC | C24: 2246.6 | D24: 48700 | E24: 38500 | F24: 1874950000 | G24: 0.013755695
B25: DRC | C25: 2246.7 | D25: 126900 | E25: 22800 | F25: 2893320000 | G25: 0.021227034
B26: DXG | C26: 2246.8 | D26: 95600 | E26: 20000 | F26: 1912000000 | G26: 0.014027515
B27: FPT | C27: 2246.9 | D27: 67300 | E27: 91900 | F27: 6184870000 | G27: 0.045375709
B28: GEX | C28: 2246.10 | D28: 136500 | E28: 21500 | F28: 2934750000 | G28: 0.021530988
B29: GMD | C29: 2246.11 | D29: 24200 | E29: 70200 | F29: 1698840000 | G29: 0.012463652
B30: HAH | C30: 2246.12 | D30: 62600 | E30: 35500 | F30: 2222300000 | G30: 0.016304051
... B54: VPB | C54: 2246.36 | D54: 216000 | E54: 19100 | F54: 4125600000 | G54: 0.030267738
B55: TỔNG TOTAL | C55: 2247 | D55: 3800175 | F55: 115614240050 | G55: 0.84821153
A56: II | B56: CỔ PHIẾU CHƯA NIÊM YẾT UNLISTED EQUITY | C56: 2248
B57: TỔNG TOTAL | C57: 2249 | D57: 0 | F57: 0 | G57: 0
B58: TỔNG CÁC LOẠI CỔ PHIẾU TOTAL | C58: 2250 | D58: 3800175 | F58: 115614240050 | G58: 0.84821153
A59: III | B59: TRÁI PHIẾU BONDS | C59: 2251
A60: 1 | B60: Trái phiếu niêm yết Listed bond | C60: 2251.1 | D60: 0 | F60: 0 | G60: 0
A61: 2 | B61: Trái phiếu chưa niêm yết Unlisted bond | C61: 2251.2 | D61: 0 | F61: 0 | G61: 0
B62: TỔNG TOTAL | C62: 2252 | D62: 0 | F62: 0 | G62: 0
A63: IV | B63: CÁC LOẠI CHỨNG KHOÁN KHÁC OTHER SECURITIES | C63: 2253
A64: 1 | B64: Quyền mua Rights | C64: 2253.1 | D64: 0 | F64: 0 | G64: 0
C65: 2253.1.1 | G65: =F65/F83 -> 0
...

Sheet BCHoatDongVay_06026
A1: Phụ lục XXVI. Mẫu báo cáo về hoạt động của Quỹ Appendix XXVI. Report on Fund's Operation
A2: (Ban hành kèm theo Thông tư số 98/2020/TT-BTC ngày 16 tháng 11 năm 2020 của Bộ trưởng Bộ Tài Chính về hướng dẫn hoạt động và quản lý quỹ đầu tư chứng khoán (Issued in association with Circular 98/2020/TT-BTC dated 16 November 2020 of the Minister of Finance on guiding the operation and management of the securities investment funds)
A3: BÁO CÁO HOẠT ĐỘNG ĐẦU TƯ CỦA QUỸ MỞ REPORT ON FUND'S INVESTMENT ACTIVITIES
A4: =BCThuNhap_06203!A5 -> Tháng 11 năm 2023/ November 2023
A6: Tên Quỹ: | G6: Quỹ Đầu tư Chọn lọc Phú Hưng Việt Nam
A7: Fund name: | G7: Phu Hung Vietnam Select Investment Fund (PHVSF)
A8: Tên Công ty quản lý quỹ: | G8: Công ty Cổ phần Quản lý Quỹ Phú Hưng
A9: Fund Management Company: | G9: Phu Hung Fund Management Joint Stock Company
A10: Tên ngân hàng giám sát: | G10: Ngân hàng TMCP Đầu tư và Phát triển Việt Nam Chi nhánh Nam Kỳ Khởi Nghĩa
A11: Supervising bank: | G11: Bank for Investment and Development of VietNam JSC - Nam Ky Khoi Nghia Branch
A12: Ngày lập báo cáo: | G12: =BCThuNhap_06203!B13 -> Ngày 01 tháng 12 năm 2023
A13: Reporting Date: | G13: =BCThuNhap_06203!B14 -> 45261
A14: A. | B14: BÁO CÁO CHUNG VỀ HOẠT ĐỘNG ĐẦU TƯ CỦA QUỸ/GENERAL INFORMATION ON FUND'S INVESTMENT ACTIVITIES
A15: IV | B15: BÁO CÁO HOẠT ĐỘNG VAY, GIAO DỊCH MUA BÁN LẠI / REPORT ON BORROWING OPERATION, REPO/REVERSE REPO TRANSACTIONS
A16: STT No. | B16: Nội dung hoạt động (nêu chi tiết theo mục tiêu và đối tác) Description | C16: Mã chỉ tiêu Code | D16: Đối tác Counterparty | E16: Mục tiêu/Tài sản đảm bảo Collateral | F16: Kỳ hạn Term | G16: Giá trị khoản vay hoặc khoản cho vay Amount | H16: Thời điểm giao dịch As at transaction date | J16: Thời điểm báo cáo As at reporting date
H17: Ngày tháng năm Date | I17: Tỷ lệ giá trị hợp đồng/giá trị tài sản ròng của quỹ Balance/NAV | J17: Ngày tháng năm Date | K17: Tỷ lệ giá trị hợp đồng/giá trị tài sản ròng của quỹ Balance/NAV
A18: 1 | B18: Các khoản vay tiền (nêu chi tiết từng hợp đồng) Borrowings (detail by each contract) | C18: 2287 | D18: 0 | E18: 0 | F18: 0 | G18: 0 | H18: 0 | I18: 0 | J18: 0 | K18: 0
A19: I | B19: Tổng giá trị các khoản vay tiền/giá trị tài sản ròng Borrowings/NAV | C19: 2288 | D19: 0 | E19: 0 | F19: 0 | G19: 0 | H19: 0 | I19: 0 | J19: 0 | K19: 0
A20: 2 | B20: Hợp đồng Repo (nêu chi tiết từng hợp đồng) Repo contract (detail by each contract) | C20: 2289 | D20: 0 | E20: 0 | F20: 0 | G20: 0 | H20: 0 | I20: 0 | J20: 0 | K20: 0
A21: II | B21: Tổng giá trị các hợp đồng Repo/giá trị tài sản ròng Total value of Repo contracts/NAV | C21: 2290 | D21: 0 | E21: 0 | F21: 0 | G21: 0 | H21: 0 | I21: 0 | J21: 0 | K21: 0
A22: A | B22: Tổng giá trị các khoản vay/giá trị tài sản ròng (=I+II) Total Borrowings, Repo/NAV (=I+II) | C22: 2291 | D22: 0 | E22: 0 | F22: 0 | G22: 0 | H22: 0 | I22: 0 | J22: 0 | K22: 0
A23: 3 | B23: Cho vay chứng khoán (nêu chi tiết từng hợp đồng) Securities lending (detail by each contract) | C23: 2292 | D23: 0 | E23: 0 | F23: 0 | G23: 0 | H23: 0 | I23: 0 | J23: 0 | K23: 0
A24: III | B24: Tổng giá trị các hợp đồng/giá trị tài sản ròng Total contract value/NAV | C24: 2293 | D24: 0 | E24: 0 | F24: 0 | G24: 0 | H24: 0 | I24: 0 | J24: 0 | K24: 0
A25: 4 | B25: Hợp đồng Reverse Repo (nêu chi tiết từng hợp đồng) Reverse Repo contract (Detail by each contract) | C25: 2295 | D25: 0 | E25: 0 | F25: 0 | G25: 0 | H25: 0 | I25: 0 | J25: 0 | K25: 0
A26: IV | B26: Tổng giá trị các hợp đồng/giá trị tài sản ròng Total contract value/NAV | C26: 2296 | D26: 0 | E26: 0 | F26: 0 | G26: 0 | H26: 0 | I26: 0 | J26: 0 | K26: 0
A27: B | B27: Tổng giá trị các khoản cho vay/giá trị tài sản ròng (=III + IV) Total Loans/NAV (=III + IV) | C27: 2297 | D27: 0 | E27: 0 | F27: 0 | G27: 0 | H27: 0 | I27: 0 | J27: 0 | K27: 0
A30: * Ghi chú: kỳ báo cáo không phát sinh
A32: Đại diện có thẩm quyền của Ngân hàng giám sát | I32: Đại diện có thẩm quyền của Công ty quản lý Quỹ
A33: Authorised Representative of Supervisory Bank | I33: Authorised Representative of Fund Management Company
A42: Ngân hàng TMCP Đầu tư và Phát triển Việt Nam Chi nhánh Nam Kỳ Khởi Nghĩa | I42: Công ty Cổ phần Quản lý Quỹ Phú Hưng
A43: Hoàng Văn Sơn | I43: LU, HUI HUNG
A44: Phó giám đốc chi nhánh | I44: Tổng Giám Đốc

Sheet Khac_06030
A1: Phụ lục XXVI. Mẫu báo cáo về hoạt động của Quỹ Appendix XXVI. Report on Fund's Operation
A2: (Ban hành kèm theo Thông tư số 98/2020/TT-BTC ngày 16 tháng 11 năm 2020 của Bộ trưởng Bộ Tài Chính về hướng dẫn hoạt động và quản lý quỹ đầu tư chứng khoán (Issued in association with Circular 98/2020/TT-BTC dated 16 November 2020 of the Minister of Finance on guiding the operation and management of the securities investment funds)
A3: BÁO CÁO HOẠT ĐỘNG ĐẦU TƯ CỦA QUỸ MỞ REPORT ON FUND'S INVESTMENT ACTIVITIES
A5: =BCThuNhap_06203!A5 -> Tháng 11 năm 2023/ November 2023
A7: Tên Quỹ: | C7: Quỹ Đầu tư Chọn lọc Phú Hưng Việt Nam
A8: Fund name: | C8: Phu Hung Vietnam Select Investment Fund (PHVSF)
A9: Tên Công ty quản lý quỹ: | C9: Công ty Cổ phần Quản lý Quỹ Phú Hưng
A10: Fund Management Company | C10: Phu Hung Fund Management Joint Stock Company
A11: Tên ngân hàng giám sát: | C11: Ngân hàng TMCP Đầu tư và Phát triển Việt Nam Chi nhánh Nam Kỳ Khởi Nghĩa
A12: Supervising bank: | C12: Bank for Investment and Development of VietNam JSC - Nam Ky Khoi Nghia Branch
A13: Ngày lập báo cáo: | C13: =BCThuNhap_06203!B13 -> Ngày 01 tháng 12 năm 2023
A14: Reporting Date: | C14: =BCThuNhap_06203!B14 -> 45261
A15: A. | B15: BÁO CÁO CHUNG VỀ HOẠT ĐỘNG ĐẦU TƯ CỦA QUỸ/GENERAL INFORMATION ON FUND'S INVESTMENT ACTIVITIES
A16: V | B16: MỘT SỐ CHỈ TIÊU KHÁC / OTHER INDICATORS
A17: STT No. | B17: Chỉ tiêu Indicators | C17: Mã chỉ tiêu Code | D17: Tháng 11 năm 2023 November 2023 | E17: Tháng 10 năm 2023 October 2023
A18: I | B18: CÁC CHỈ TIÊU VỀ HIỆU QUẢ HOẠT ĐỘNG INVESTMENT PERFORMANCE INDICATORS | C18: 2264
A19: 1 | B19: Tỷ lệ giá dịch vụ quản lý quỹ trả cho công ty quản lý quỹ/Giá trị tài sản ròng trung bình trong kỳ (%) Management fee paid to the fund management company/Average NAV (%) | C19: 2265 | D19: 0.014697299 | E19: 0.015298325
A20: 2 | B20: Tỷ lệ giá dịch vụ lưu ký, giám sát trả cho Ngân hàng Giám sát/Giá trị tài sản ròng trung bình trong kỳ (%) Custody and supervising fees paid to the Supervisory Bank/Average NAV (%) | C20: 2266 | D20: 0.0036039453 | E20: 0.0036519003
A21: 3 | B21: Tỷ lệ chi phí dịch vụ quản trị quỹ, và các chi phí khác mà công ty quản lý quỹ trả cho tổ chức cung cấp dịch vụ có liên quan/Giá trị tài sản ròng của quỹ trung bình trong kỳ (%) Fund admin fee, and other fees paid to relating services providers by the fund management company/Average NAV (%) | C21: 22661 | D21: 0.0029104228 | E21: 0.0031793072
A22: 4 | B22: Chi phí kiểm toán trả cho tổ chức kiểm toán (nếu phát sinh) / Giá trị tài sản ròng trung bình trong kỳ (%) Audit fee expense over average NAV ratio (%) | C22: 2267 | D22: 0.001424221 | E22: 0.0016414058
A23: 5 | B23: Chi phí dịch vụ tư vấn pháp lý, dịch vụ báo giá và các dịch vụ hợp lý khác, thù lao trả cho ban đại diện quỹ / Giá trị tài sản ròng trung bình trong kỳ (%) Legal consultancy, OTC price quotation and other valid service fees; Board of Representatives' remuneration expense over average NAV ratio (%) | C23: 2268 | D23: 0 | E23: 0
A24: 6 | B24: Tỷ lệ chi phí /Giá trị tài sản ròng trung bình trong kỳ (%) Expense/Average NAV (%) | C24: 2269 | D24: 0.02938755 | E24: 0.0296949
A25: 7 | B25: Tốc độ vòng quay danh mục trong kỳ (%) = (Tổng giá trị mua vào + tổng giá trị bán ra) x 100%/ (2 x Giá trị tài sản ròng trung bình trong kỳ) Portfolio turnover rate (%) = (Total value of purchase transactions + total value of sales transactions) x 100%/ (2 x Average NAV) (**) | C25: 2270 | D25: 2.2503599 | E25: 1.9735945
A26: II | B26: CÁC CHỈ TIÊU KHÁC OTHER INDICATORS | C26: 2272
A27: 1 | B27: Quy mô quỹ đầu kỳ (tính theo mệnh giá chứng chỉ quỹ) Fund scale at the beginning of the period (based on par value of fund certificate) | C27: 2273 | D27: 1.0147028e+11 | E27: 1.0143542e+11
B28: Tổng giá trị chứng chỉ quỹ đang lưu hành đầu kỳ Total value of outstanding Fund Certificate at the beginning of period | C28: 2274 | D28: 1.0147028e+11 | E28: 1.0143542e+11
B29: Tổng số lượng đơn vị quỹ đang lưu hành đầu kỳ Total number of outstanding Fund Certificate at the beginning of period | C29: 2275 | D29: 10147028 | E29: 10143542
A30: 2 | B30: Thay đổi quy mô quỹ trong kỳ (tính theo mệnh giá chứng chỉ quỹ) Change of Fund scale during the period (based on par value of fund certificate) | C30: 2276 | D30: 29028694200 | E30: 34864800
B31: Thay đổi số lượng chứng chỉ quỹ trong kỳ Change of Number of Fund Certificates during the period | C31: 2276.1 | D31: 2902869.4 | E31: 3486.48
B32: Thay đổi giá trị vốn trong kỳ (theo mệnh giá) Change in capital amount during the period (based on par value) | C32: 2276.2 | D32: 29028694200 | E32: 34864800
B33: Số lượng đơn vị quỹ phát hành thêm trong kỳ Number of Fund Certificates subscribed during the period | C33: 2277 | D33: 2905427.6 | E33: 3824.15
B34: Giá trị vốn huy động thêm trong kỳ (theo mệnh giá) Net subscription amount in period (based on par value) | C34: 2278 | D34: 29054276400 | E34: 38241500
B35: Số lượng đơn vị quỹ mua lại trong kỳ Number of Fund Certificates redeemed during the period | C35: 22781 | D35: -2558.22 | E35: -337.67
B36: Giá trị vốn phải thanh toán trong kỳ khi đáp ứng lệnh của nhà đầu tư (theo mệnh giá) Net redemption amount in period (based on par value) | C36: 22782 | D36: -25582200 | E36: -3376700
A37: 3 | B37: Quy mô quỹ cuối kỳ (tính theo mệnh giá chứng chỉ quỹ) Fund scale at the end of the period (based on par value of fund unit) | C37: 2279 | D37: 1.3049898e+11 | E37: 1.0147028e+11
B38: Tổng giá trị chứng chỉ quỹ đang lưu hành cuối kỳ Total value of outstanding Fund Certificate at the end of the period | C38: 2280 | D38: 1.3049898e+11 | E38: 1.0147028e+11
B39: Tổng số lượng đơn vị quỹ đang lưu hành cuối kỳ Total number of outstanding Fund Certificate at the end of the period | C39: 2281 | D39: 13049898 | E39: 10147028
A40: 4 | B40: Tỷ lệ nắm giữ chứng chỉ quỹ của công ty quản lý quỹ và người có liên quan cuối kỳ Fund Management Company and related parties' ownership ratio at the end of the period | C40: 2282 | D40: 0.4991 | E40: 0.3561
A41: 5 | B41: Tỷ lệ nắm giữ chứng chỉ quỹ của 10 nhà đầu tư lớn nhất cuối kỳ Top 10 investors' ownership ratio at the end of the period | C41: 2283 | D41: 0.998 | E41: 0.9977
A42: 6 | B42: Tỷ lệ nắm giữ chứng chỉ quỹ của nhà đầu tư nước ngoài cuối kỳ Foreign investors' ownership ratio at the end of the period | C42: 2284 | D42: 0.5764 | E42: 0.4555
...
